BEGIN:VCALENDAR
VERSION:2.0
PRODID:-//Budweiser Brickhouse Tavern - ECPv6.15.20//NONSGML v1.0//EN
CALSCALE:GREGORIAN
METHOD:PUBLISH
X-WR-CALNAME:Budweiser Brickhouse Tavern
X-ORIGINAL-URL:https://www.brickhousetavernchi.com
X-WR-CALDESC:Events for Budweiser Brickhouse Tavern
REFRESH-INTERVAL;VALUE=DURATION:PT1H
X-Robots-Tag:noindex
X-PUBLISHED-TTL:PT1H
BEGIN:VTIMEZONE
TZID:America/Chicago
BEGIN:DAYLIGHT
TZOFFSETFROM:-0600
TZOFFSETTO:-0500
TZNAME:CDT
DTSTART:20180311T080000
END:DAYLIGHT
BEGIN:STANDARD
TZOFFSETFROM:-0500
TZOFFSETTO:-0600
TZNAME:CST
DTSTART:20181104T070000
END:STANDARD
BEGIN:DAYLIGHT
TZOFFSETFROM:-0600
TZOFFSETTO:-0500
TZNAME:CDT
DTSTART:20190310T080000
END:DAYLIGHT
BEGIN:STANDARD
TZOFFSETFROM:-0500
TZOFFSETTO:-0600
TZNAME:CST
DTSTART:20191103T070000
END:STANDARD
BEGIN:DAYLIGHT
TZOFFSETFROM:-0600
TZOFFSETTO:-0500
TZNAME:CDT
DTSTART:20200308T080000
END:DAYLIGHT
BEGIN:STANDARD
TZOFFSETFROM:-0500
TZOFFSETTO:-0600
TZNAME:CST
DTSTART:20201101T070000
END:STANDARD
END:VTIMEZONE
BEGIN:VEVENT
DTSTART;TZID=America/Chicago:20190624T190000
DTEND;TZID=America/Chicago:20190624T210000
DTSTAMP:20260422T124758
CREATED:20190508T153907Z
LAST-MODIFIED:20190508T153907Z
UID:3752-1561402800-1561410000@www.brickhousetavernchi.com
SUMMARY:Bachelorette Watch Party
DESCRIPTION:RESERVE TABLE
URL:https://www.brickhousetavernchi.com/event/bachelorette-watch-party-7/
LOCATION:Budweiser Brickhouse Tavern\, 3647 N. Clark Street\, Chicago\, 60613\, United States
CATEGORIES:Bachelorette Watch Party
GEO:41.9486217;-87.6573371
X-APPLE-STRUCTURED-LOCATION;VALUE=URI;X-ADDRESS=Budweiser Brickhouse Tavern 3647 N. Clark Street Chicago 60613 United States;X-APPLE-RADIUS=500;X-TITLE=3647 N. Clark Street:geo:-87.6573371,41.9486217
END:VEVENT
BEGIN:VEVENT
DTSTART;TZID=America/Chicago:20190617T190000
DTEND;TZID=America/Chicago:20190617T210000
DTSTAMP:20260422T124758
CREATED:20190508T153654Z
LAST-MODIFIED:20190508T153654Z
UID:3751-1560798000-1560805200@www.brickhousetavernchi.com
SUMMARY:Bachelorette Watch Party
DESCRIPTION:RESERVE TABLE
URL:https://www.brickhousetavernchi.com/event/bachelorette-watch-party-6/
LOCATION:Budweiser Brickhouse Tavern\, 3647 N. Clark Street\, Chicago\, 60613\, United States
CATEGORIES:Bachelorette Watch Party
GEO:41.9486217;-87.6573371
X-APPLE-STRUCTURED-LOCATION;VALUE=URI;X-ADDRESS=Budweiser Brickhouse Tavern 3647 N. Clark Street Chicago 60613 United States;X-APPLE-RADIUS=500;X-TITLE=3647 N. Clark Street:geo:-87.6573371,41.9486217
END:VEVENT
BEGIN:VEVENT
DTSTART;TZID=America/Chicago:20190616T100000
DTEND;TZID=America/Chicago:20190616T150000
DTSTAMP:20260422T124758
CREATED:20190530T170149Z
LAST-MODIFIED:20190530T184536Z
UID:3830-1560679200-1560697200@www.brickhousetavernchi.com
SUMMARY:Away Game Brunch
DESCRIPTION:RESERVE TABLE
URL:https://www.brickhousetavernchi.com/event/away-game-brunch-5/
LOCATION:Budweiser Brickhouse Tavern\, 3647 N. Clark Street\, Chicago\, 60613\, United States
CATEGORIES:Away Game Brunch
GEO:41.9486217;-87.6573371
X-APPLE-STRUCTURED-LOCATION;VALUE=URI;X-ADDRESS=Budweiser Brickhouse Tavern 3647 N. Clark Street Chicago 60613 United States;X-APPLE-RADIUS=500;X-TITLE=3647 N. Clark Street:geo:-87.6573371,41.9486217
END:VEVENT
BEGIN:VEVENT
DTSTART;TZID=America/Chicago:20190615T100000
DTEND;TZID=America/Chicago:20190615T150000
DTSTAMP:20260422T124758
CREATED:20190530T165702Z
LAST-MODIFIED:20190530T165926Z
UID:3829-1560592800-1560610800@www.brickhousetavernchi.com
SUMMARY:Away Game Brunch
DESCRIPTION:RESERVE TABLE
URL:https://www.brickhousetavernchi.com/event/away-game-brunch-4/
LOCATION:Budweiser Brickhouse Tavern\, 3647 N. Clark Street\, Chicago\, 60613\, United States
CATEGORIES:Away Game Brunch
GEO:41.9486217;-87.6573371
X-APPLE-STRUCTURED-LOCATION;VALUE=URI;X-ADDRESS=Budweiser Brickhouse Tavern 3647 N. Clark Street Chicago 60613 United States;X-APPLE-RADIUS=500;X-TITLE=3647 N. Clark Street:geo:-87.6573371,41.9486217
END:VEVENT
BEGIN:VEVENT
DTSTART;TZID=America/Chicago:20190610T190000
DTEND;TZID=America/Chicago:20190610T210000
DTSTAMP:20260422T124758
CREATED:20190508T153216Z
LAST-MODIFIED:20190508T153305Z
UID:3750-1560193200-1560200400@www.brickhousetavernchi.com
SUMMARY:Bachelorette Watch Party
DESCRIPTION:RESERVE TABLE
URL:https://www.brickhousetavernchi.com/event/bachelorette-watch-party-5/
LOCATION:Budweiser Brickhouse Tavern\, 3647 N. Clark Street\, Chicago\, 60613\, United States
CATEGORIES:Bachelorette Watch Party
GEO:41.9486217;-87.6573371
X-APPLE-STRUCTURED-LOCATION;VALUE=URI;X-ADDRESS=Budweiser Brickhouse Tavern 3647 N. Clark Street Chicago 60613 United States;X-APPLE-RADIUS=500;X-TITLE=3647 N. Clark Street:geo:-87.6573371,41.9486217
END:VEVENT
BEGIN:VEVENT
DTSTART;TZID=America/Chicago:20190609T100000
DTEND;TZID=America/Chicago:20190609T150000
DTSTAMP:20260422T124758
CREATED:20190530T195443Z
LAST-MODIFIED:20190530T195443Z
UID:3836-1560074400-1560092400@www.brickhousetavernchi.com
SUMMARY:Away Game Brunch
DESCRIPTION:RESERVE TABLE
URL:https://www.brickhousetavernchi.com/event/away-game-brunch-10/
LOCATION:Budweiser Brickhouse Tavern\, 3647 N. Clark Street\, Chicago\, 60613\, United States
CATEGORIES:Away Game Brunch
GEO:41.9486217;-87.6573371
X-APPLE-STRUCTURED-LOCATION;VALUE=URI;X-ADDRESS=Budweiser Brickhouse Tavern 3647 N. Clark Street Chicago 60613 United States;X-APPLE-RADIUS=500;X-TITLE=3647 N. Clark Street:geo:-87.6573371,41.9486217
END:VEVENT
BEGIN:VEVENT
DTSTART;TZID=America/Chicago:20190608T100000
DTEND;TZID=America/Chicago:20190608T150000
DTSTAMP:20260422T124758
CREATED:20190530T195303Z
LAST-MODIFIED:20190530T195303Z
UID:3835-1559988000-1560006000@www.brickhousetavernchi.com
SUMMARY:Away Game Brunch
DESCRIPTION:RESERVE TABLE
URL:https://www.brickhousetavernchi.com/event/away-game-brunch-9/
LOCATION:Budweiser Brickhouse Tavern\, 3647 N. Clark Street\, Chicago\, 60613\, United States
CATEGORIES:Away Game Brunch
GEO:41.9486217;-87.6573371
X-APPLE-STRUCTURED-LOCATION;VALUE=URI;X-ADDRESS=Budweiser Brickhouse Tavern 3647 N. Clark Street Chicago 60613 United States;X-APPLE-RADIUS=500;X-TITLE=3647 N. Clark Street:geo:-87.6573371,41.9486217
END:VEVENT
BEGIN:VEVENT
DTSTART;TZID=America/Chicago:20190603T190000
DTEND;TZID=America/Chicago:20190603T210000
DTSTAMP:20260422T124758
CREATED:20190508T152657Z
LAST-MODIFIED:20190508T152657Z
UID:3749-1559588400-1559595600@www.brickhousetavernchi.com
SUMMARY:Bachelorette Watch Party
DESCRIPTION:RESERVE TABLE
URL:https://www.brickhousetavernchi.com/event/bachelorette-watch-party-4/
LOCATION:Budweiser Brickhouse Tavern\, 3647 N. Clark Street\, Chicago\, 60613\, United States
CATEGORIES:Bachelorette Watch Party
GEO:41.9486217;-87.6573371
X-APPLE-STRUCTURED-LOCATION;VALUE=URI;X-ADDRESS=Budweiser Brickhouse Tavern 3647 N. Clark Street Chicago 60613 United States;X-APPLE-RADIUS=500;X-TITLE=3647 N. Clark Street:geo:-87.6573371,41.9486217
END:VEVENT
BEGIN:VEVENT
DTSTART;TZID=America/Chicago:20190602T100000
DTEND;TZID=America/Chicago:20190602T150000
DTSTAMP:20260422T124758
CREATED:20190530T165150Z
LAST-MODIFIED:20190530T165401Z
UID:3827-1559469600-1559487600@www.brickhousetavernchi.com
SUMMARY:Away Game Brunch
DESCRIPTION:RESERVE TABLE
URL:https://www.brickhousetavernchi.com/event/away-game-brunch-3/
LOCATION:Budweiser Brickhouse Tavern\, 3647 N. Clark Street\, Chicago\, 60613\, United States
CATEGORIES:Away Game Brunch
GEO:41.9486217;-87.6573371
X-APPLE-STRUCTURED-LOCATION;VALUE=URI;X-ADDRESS=Budweiser Brickhouse Tavern 3647 N. Clark Street Chicago 60613 United States;X-APPLE-RADIUS=500;X-TITLE=3647 N. Clark Street:geo:-87.6573371,41.9486217
END:VEVENT
BEGIN:VEVENT
DTSTART;TZID=America/Chicago:20190601T180000
DTEND;TZID=America/Chicago:20190601T230000
DTSTAMP:20260422T124758
CREATED:20190523T180446Z
LAST-MODIFIED:20190523T182016Z
UID:3805-1559412000-1559430000@www.brickhousetavernchi.com
SUMMARY:Ludacris Concert
DESCRIPTION:RESERVE TABLE
URL:https://www.brickhousetavernchi.com/event/ludacris-concert/
LOCATION:Budweiser Brickhouse Tavern\, 3647 N. Clark Street\, Chicago\, 60613\, United States
GEO:41.9486217;-87.6573371
X-APPLE-STRUCTURED-LOCATION;VALUE=URI;X-ADDRESS=Budweiser Brickhouse Tavern 3647 N. Clark Street Chicago 60613 United States;X-APPLE-RADIUS=500;X-TITLE=3647 N. Clark Street:geo:-87.6573371,41.9486217
END:VEVENT
BEGIN:VEVENT
DTSTART;TZID=America/Chicago:20190601T100000
DTEND;TZID=America/Chicago:20190601T150000
DTSTAMP:20260422T124758
CREATED:20190530T163528Z
LAST-MODIFIED:20190530T163528Z
UID:3826-1559383200-1559401200@www.brickhousetavernchi.com
SUMMARY:Away Game Brunch
DESCRIPTION:RESERVE TABLE
URL:https://www.brickhousetavernchi.com/event/away-game-brunch-2/
LOCATION:Budweiser Brickhouse Tavern\, 3647 N. Clark Street\, Chicago\, 60613\, United States
CATEGORIES:Away Game Brunch
GEO:41.9486217;-87.6573371
X-APPLE-STRUCTURED-LOCATION;VALUE=URI;X-ADDRESS=Budweiser Brickhouse Tavern 3647 N. Clark Street Chicago 60613 United States;X-APPLE-RADIUS=500;X-TITLE=3647 N. Clark Street:geo:-87.6573371,41.9486217
END:VEVENT
BEGIN:VEVENT
DTSTART;TZID=America/Chicago:20190527T190000
DTEND;TZID=America/Chicago:20190527T210000
DTSTAMP:20260422T124758
CREATED:20190508T152507Z
LAST-MODIFIED:20190508T152507Z
UID:3748-1558983600-1558990800@www.brickhousetavernchi.com
SUMMARY:Bachelorette Watch Party
DESCRIPTION:RESERVE TABLE
URL:https://www.brickhousetavernchi.com/event/bachelorette-watch-party-3/
LOCATION:Budweiser Brickhouse Tavern\, 3647 N. Clark Street\, Chicago\, 60613\, United States
CATEGORIES:Bachelorette Watch Party,Lets Brunch Wrigleyville
GEO:41.9486217;-87.6573371
X-APPLE-STRUCTURED-LOCATION;VALUE=URI;X-ADDRESS=Budweiser Brickhouse Tavern 3647 N. Clark Street Chicago 60613 United States;X-APPLE-RADIUS=500;X-TITLE=3647 N. Clark Street:geo:-87.6573371,41.9486217
END:VEVENT
BEGIN:VEVENT
DTSTART;TZID=America/Chicago:20190526T100000
DTEND;TZID=America/Chicago:20190526T150000
DTSTAMP:20260422T124758
CREATED:20190507T170039Z
LAST-MODIFIED:20190507T170238Z
UID:3744-1558864800-1558882800@www.brickhousetavernchi.com
SUMMARY:Let's Brunch Wrigleyville
DESCRIPTION:RESERVE TABLE
URL:https://www.brickhousetavernchi.com/event/lets-brunch-wrigleyville-24/
LOCATION:Budweiser Brickhouse Tavern\, 3647 N. Clark Street\, Chicago\, 60613\, United States
CATEGORIES:Lets Brunch Wrigleyville
GEO:41.9486217;-87.6573371
X-APPLE-STRUCTURED-LOCATION;VALUE=URI;X-ADDRESS=Budweiser Brickhouse Tavern 3647 N. Clark Street Chicago 60613 United States;X-APPLE-RADIUS=500;X-TITLE=3647 N. Clark Street:geo:-87.6573371,41.9486217
END:VEVENT
BEGIN:VEVENT
DTSTART;TZID=America/Chicago:20190525T100000
DTEND;TZID=America/Chicago:20190525T150000
DTSTAMP:20260422T124758
CREATED:20190507T165848Z
LAST-MODIFIED:20190507T165912Z
UID:3743-1558778400-1558796400@www.brickhousetavernchi.com
SUMMARY:Let's Brunch Wrigleyville
DESCRIPTION:RESERVE TABLE
URL:https://www.brickhousetavernchi.com/event/lets-brunch-wrigleyville-23/
LOCATION:Budweiser Brickhouse Tavern\, 3647 N. Clark Street\, Chicago\, 60613\, United States
CATEGORIES:Lets Brunch Wrigleyville
GEO:41.9486217;-87.6573371
X-APPLE-STRUCTURED-LOCATION;VALUE=URI;X-ADDRESS=Budweiser Brickhouse Tavern 3647 N. Clark Street Chicago 60613 United States;X-APPLE-RADIUS=500;X-TITLE=3647 N. Clark Street:geo:-87.6573371,41.9486217
END:VEVENT
BEGIN:VEVENT
DTSTART;TZID=America/Chicago:20190520T190000
DTEND;TZID=America/Chicago:20190520T210000
DTSTAMP:20260422T124758
CREATED:20190507T161759Z
LAST-MODIFIED:20190513T212219Z
UID:3735-1558378800-1558386000@www.brickhousetavernchi.com
SUMMARY:Bachelorette Watch Party
DESCRIPTION:RESERVE TABLE
URL:https://www.brickhousetavernchi.com/event/bachelorette-watch-party-2/
LOCATION:Budweiser Brickhouse Tavern\, 3647 N. Clark Street\, Chicago\, 60613\, United States
CATEGORIES:Bachelorette Watch Party
GEO:41.9486217;-87.6573371
X-APPLE-STRUCTURED-LOCATION;VALUE=URI;X-ADDRESS=Budweiser Brickhouse Tavern 3647 N. Clark Street Chicago 60613 United States;X-APPLE-RADIUS=500;X-TITLE=3647 N. Clark Street:geo:-87.6573371,41.9486217
END:VEVENT
BEGIN:VEVENT
DTSTART;TZID=America/Chicago:20190519T100000
DTEND;TZID=America/Chicago:20190519T150000
DTSTAMP:20260422T124758
CREATED:20190507T165652Z
LAST-MODIFIED:20190507T165709Z
UID:3742-1558260000-1558278000@www.brickhousetavernchi.com
SUMMARY:Let's Brunch Wrigleyville
DESCRIPTION:RESERVE TABLE
URL:https://www.brickhousetavernchi.com/event/lets-brunch-wrigleyville-22/
LOCATION:Budweiser Brickhouse Tavern\, 3647 N. Clark Street\, Chicago\, 60613\, United States
CATEGORIES:Lets Brunch Wrigleyville
GEO:41.9486217;-87.6573371
X-APPLE-STRUCTURED-LOCATION;VALUE=URI;X-ADDRESS=Budweiser Brickhouse Tavern 3647 N. Clark Street Chicago 60613 United States;X-APPLE-RADIUS=500;X-TITLE=3647 N. Clark Street:geo:-87.6573371,41.9486217
END:VEVENT
BEGIN:VEVENT
DTSTART;TZID=America/Chicago:20190518T100000
DTEND;TZID=America/Chicago:20190518T150000
DTSTAMP:20260422T124758
CREATED:20190507T165522Z
LAST-MODIFIED:20190507T165522Z
UID:3740-1558173600-1558191600@www.brickhousetavernchi.com
SUMMARY:Let's Brunch Wrigleyville
DESCRIPTION:RESERVE TABLE
URL:https://www.brickhousetavernchi.com/event/lets-brunch-wrigleyville-21/
LOCATION:Budweiser Brickhouse Tavern\, 3647 N. Clark Street\, Chicago\, 60613\, United States
CATEGORIES:Lets Brunch Wrigleyville
GEO:41.9486217;-87.6573371
X-APPLE-STRUCTURED-LOCATION;VALUE=URI;X-ADDRESS=Budweiser Brickhouse Tavern 3647 N. Clark Street Chicago 60613 United States;X-APPLE-RADIUS=500;X-TITLE=3647 N. Clark Street:geo:-87.6573371,41.9486217
END:VEVENT
BEGIN:VEVENT
DTSTART;TZID=America/Chicago:20190513T190000
DTEND;TZID=America/Chicago:20190513T210000
DTSTAMP:20260422T124758
CREATED:20190507T150004Z
LAST-MODIFIED:20190513T212104Z
UID:3733-1557774000-1557781200@www.brickhousetavernchi.com
SUMMARY:Bachelorette Watch Party
DESCRIPTION:RESERVE TABLE
URL:https://www.brickhousetavernchi.com/event/bachelorette-watch-party/
LOCATION:Budweiser Brickhouse Tavern\, 3647 N. Clark Street\, Chicago\, 60613\, United States
CATEGORIES:Bachelorette Watch Party
GEO:41.9486217;-87.6573371
X-APPLE-STRUCTURED-LOCATION;VALUE=URI;X-ADDRESS=Budweiser Brickhouse Tavern 3647 N. Clark Street Chicago 60613 United States;X-APPLE-RADIUS=500;X-TITLE=3647 N. Clark Street:geo:-87.6573371,41.9486217
END:VEVENT
BEGIN:VEVENT
DTSTART;TZID=America/Chicago:20190512T100000
DTEND;TZID=America/Chicago:20190512T150000
DTSTAMP:20260422T124758
CREATED:20190507T165104Z
LAST-MODIFIED:20190507T165250Z
UID:3737-1557655200-1557673200@www.brickhousetavernchi.com
SUMMARY:Let's Brunch Wrigleyville
DESCRIPTION:RESERVE TABLE
URL:https://www.brickhousetavernchi.com/event/lets-brunch-wrigleyville-20/
LOCATION:Budweiser Brickhouse Tavern\, 3647 N. Clark Street\, Chicago\, 60613\, United States
CATEGORIES:Lets Brunch Wrigleyville
GEO:41.9486217;-87.6573371
X-APPLE-STRUCTURED-LOCATION;VALUE=URI;X-ADDRESS=Budweiser Brickhouse Tavern 3647 N. Clark Street Chicago 60613 United States;X-APPLE-RADIUS=500;X-TITLE=3647 N. Clark Street:geo:-87.6573371,41.9486217
END:VEVENT
BEGIN:VEVENT
DTSTART;TZID=America/Chicago:20190511T100000
DTEND;TZID=America/Chicago:20190511T150000
DTSTAMP:20260422T124758
CREATED:20190507T163121Z
LAST-MODIFIED:20190507T163214Z
UID:3736-1557568800-1557586800@www.brickhousetavernchi.com
SUMMARY:Let's Brunch Wrigleyville
DESCRIPTION:RESERVE TABLE
URL:https://www.brickhousetavernchi.com/event/lets-brunch-wrigleyville-19/
LOCATION:Budweiser Brickhouse Tavern\, 3647 N. Clark Street\, Chicago\, 60613\, United States
CATEGORIES:Lets Brunch Wrigleyville
GEO:41.9486217;-87.6573371
X-APPLE-STRUCTURED-LOCATION;VALUE=URI;X-ADDRESS=Budweiser Brickhouse Tavern 3647 N. Clark Street Chicago 60613 United States;X-APPLE-RADIUS=500;X-TITLE=3647 N. Clark Street:geo:-87.6573371,41.9486217
END:VEVENT
BEGIN:VEVENT
DTSTART;TZID=America/Chicago:20190505T100000
DTEND;TZID=America/Chicago:20190505T150000
DTSTAMP:20260422T124758
CREATED:20190429T193953Z
LAST-MODIFIED:20190429T193953Z
UID:3711-1557050400-1557068400@www.brickhousetavernchi.com
SUMMARY:Let's Brunch Wrigleyville
DESCRIPTION:RESERVE YOUR TABLE
URL:https://www.brickhousetavernchi.com/event/lets-brunch-wrigleyville-18/
LOCATION:Budweiser Brickhouse Tavern\, 3647 N. Clark Street\, Chicago\, 60613\, United States
CATEGORIES:Lets Brunch Wrigleyville
GEO:41.9486217;-87.6573371
X-APPLE-STRUCTURED-LOCATION;VALUE=URI;X-ADDRESS=Budweiser Brickhouse Tavern 3647 N. Clark Street Chicago 60613 United States;X-APPLE-RADIUS=500;X-TITLE=3647 N. Clark Street:geo:-87.6573371,41.9486217
END:VEVENT
BEGIN:VEVENT
DTSTART;TZID=America/Chicago:20190504T100000
DTEND;TZID=America/Chicago:20190504T150000
DTSTAMP:20260422T124758
CREATED:20190429T193607Z
LAST-MODIFIED:20190429T193607Z
UID:3710-1556964000-1556982000@www.brickhousetavernchi.com
SUMMARY:Let's Brunch Wrigleyville
DESCRIPTION:RESERVE YOUR TABLE
URL:https://www.brickhousetavernchi.com/event/lets-brunch-wrigleyville-17/
LOCATION:Budweiser Brickhouse Tavern\, 3647 N. Clark Street\, Chicago\, 60613\, United States
CATEGORIES:Lets Brunch Wrigleyville
GEO:41.9486217;-87.6573371
X-APPLE-STRUCTURED-LOCATION;VALUE=URI;X-ADDRESS=Budweiser Brickhouse Tavern 3647 N. Clark Street Chicago 60613 United States;X-APPLE-RADIUS=500;X-TITLE=3647 N. Clark Street:geo:-87.6573371,41.9486217
END:VEVENT
BEGIN:VEVENT
DTSTART;TZID=America/Chicago:20190428T100000
DTEND;TZID=America/Chicago:20190428T150000
DTSTAMP:20260422T124758
CREATED:20190410T204718Z
LAST-MODIFIED:20190411T153225Z
UID:3666-1556445600-1556463600@www.brickhousetavernchi.com
SUMMARY:Let's Brunch Wrigleyville
DESCRIPTION:LEARN MORE
URL:https://www.brickhousetavernchi.com/event/lets-brunch-wrigleyville-16/
LOCATION:Budweiser Brickhouse Tavern\, 3647 N. Clark Street\, Chicago\, 60613\, United States
CATEGORIES:Lets Brunch Wrigleyville
GEO:41.9486217;-87.6573371
X-APPLE-STRUCTURED-LOCATION;VALUE=URI;X-ADDRESS=Budweiser Brickhouse Tavern 3647 N. Clark Street Chicago 60613 United States;X-APPLE-RADIUS=500;X-TITLE=3647 N. Clark Street:geo:-87.6573371,41.9486217
END:VEVENT
BEGIN:VEVENT
DTSTART;TZID=America/Chicago:20190427T100000
DTEND;TZID=America/Chicago:20190427T150000
DTSTAMP:20260422T124758
CREATED:20190410T204530Z
LAST-MODIFIED:20190411T153212Z
UID:3665-1556359200-1556377200@www.brickhousetavernchi.com
SUMMARY:Let's Brunch Wrigleyville
DESCRIPTION:LEARN MORE
URL:https://www.brickhousetavernchi.com/event/lets-brunch-wrigleyville-15/
LOCATION:Budweiser Brickhouse Tavern\, 3647 N. Clark Street\, Chicago\, 60613\, United States
CATEGORIES:Lets Brunch Wrigleyville
GEO:41.9486217;-87.6573371
X-APPLE-STRUCTURED-LOCATION;VALUE=URI;X-ADDRESS=Budweiser Brickhouse Tavern 3647 N. Clark Street Chicago 60613 United States;X-APPLE-RADIUS=500;X-TITLE=3647 N. Clark Street:geo:-87.6573371,41.9486217
END:VEVENT
BEGIN:VEVENT
DTSTART;TZID=America/Chicago:20190420T100000
DTEND;TZID=America/Chicago:20190420T150000
DTSTAMP:20260422T124758
CREATED:20190410T204150Z
LAST-MODIFIED:20190411T153146Z
UID:3663-1555754400-1555772400@www.brickhousetavernchi.com
SUMMARY:Let's Brunch Wrigleyville
DESCRIPTION:LEARN MORE
URL:https://www.brickhousetavernchi.com/event/lets-brunch-wrigleyville-14/
LOCATION:Budweiser Brickhouse Tavern\, 3647 N. Clark Street\, Chicago\, 60613\, United States
CATEGORIES:Lets Brunch Wrigleyville
GEO:41.9486217;-87.6573371
X-APPLE-STRUCTURED-LOCATION;VALUE=URI;X-ADDRESS=Budweiser Brickhouse Tavern 3647 N. Clark Street Chicago 60613 United States;X-APPLE-RADIUS=500;X-TITLE=3647 N. Clark Street:geo:-87.6573371,41.9486217
END:VEVENT
BEGIN:VEVENT
DTSTART;TZID=America/Chicago:20190414T100000
DTEND;TZID=America/Chicago:20190414T150000
DTSTAMP:20260422T124758
CREATED:20190410T201033Z
LAST-MODIFIED:20190411T153118Z
UID:3661-1555236000-1555254000@www.brickhousetavernchi.com
SUMMARY:Let's Brunch Wrigleyville
DESCRIPTION:LEARN MORE
URL:https://www.brickhousetavernchi.com/event/lets-brunch-wrigleyville-13/
LOCATION:Budweiser Brickhouse Tavern\, 3647 N. Clark Street\, Chicago\, 60613\, United States
CATEGORIES:Lets Brunch Wrigleyville
GEO:41.9486217;-87.6573371
X-APPLE-STRUCTURED-LOCATION;VALUE=URI;X-ADDRESS=Budweiser Brickhouse Tavern 3647 N. Clark Street Chicago 60613 United States;X-APPLE-RADIUS=500;X-TITLE=3647 N. Clark Street:geo:-87.6573371,41.9486217
END:VEVENT
BEGIN:VEVENT
DTSTART;TZID=America/Chicago:20190413T100000
DTEND;TZID=America/Chicago:20190413T150000
DTSTAMP:20260422T124758
CREATED:20190410T201033Z
LAST-MODIFIED:20190411T153020Z
UID:3660-1555149600-1555167600@www.brickhousetavernchi.com
SUMMARY:Let's Brunch Wrigleyville
DESCRIPTION:LEARN MORE
URL:https://www.brickhousetavernchi.com/event/lets-brunch-wrigleyville-12/
LOCATION:Budweiser Brickhouse Tavern\, 3647 N. Clark Street\, Chicago\, 60613\, United States
CATEGORIES:Lets Brunch Wrigleyville
GEO:41.9486217;-87.6573371
X-APPLE-STRUCTURED-LOCATION;VALUE=URI;X-ADDRESS=Budweiser Brickhouse Tavern 3647 N. Clark Street Chicago 60613 United States;X-APPLE-RADIUS=500;X-TITLE=3647 N. Clark Street:geo:-87.6573371,41.9486217
END:VEVENT
BEGIN:VEVENT
DTSTART;TZID=America/Chicago:20190408T180000
DTEND;TZID=America/Chicago:20190408T220000
DTSTAMP:20260422T124758
CREATED:20190301T203708Z
LAST-MODIFIED:20190301T203746Z
UID:3521-1554746400-1554760800@www.brickhousetavernchi.com
SUMMARY:Basketball Viewing Party
DESCRIPTION:RESERVE TABLE
URL:https://www.brickhousetavernchi.com/event/basketball-viewing-party-10/
LOCATION:Budweiser Brickhouse Tavern\, 3647 N. Clark Street\, Chicago\, 60613\, United States
CATEGORIES:Basketball Viewing Party
GEO:41.9486217;-87.6573371
X-APPLE-STRUCTURED-LOCATION;VALUE=URI;X-ADDRESS=Budweiser Brickhouse Tavern 3647 N. Clark Street Chicago 60613 United States;X-APPLE-RADIUS=500;X-TITLE=3647 N. Clark Street:geo:-87.6573371,41.9486217
END:VEVENT
BEGIN:VEVENT
DTSTART;TZID=America/Chicago:20190408T090000
DTEND;TZID=America/Chicago:20190408T223000
DTSTAMP:20260422T124758
CREATED:20190328T154131Z
LAST-MODIFIED:20190328T154131Z
UID:3609-1554714000-1554762600@www.brickhousetavernchi.com
SUMMARY:Cubs Home Opener
DESCRIPTION:
URL:https://www.brickhousetavernchi.com/event/cubs-home-opener/
LOCATION:Budweiser Brickhouse Tavern\, 3647 N. Clark Street\, Chicago\, 60613\, United States
CATEGORIES:Cubs Home Opener
GEO:41.9486217;-87.6573371
X-APPLE-STRUCTURED-LOCATION;VALUE=URI;X-ADDRESS=Budweiser Brickhouse Tavern 3647 N. Clark Street Chicago 60613 United States;X-APPLE-RADIUS=500;X-TITLE=3647 N. Clark Street:geo:-87.6573371,41.9486217
END:VEVENT
BEGIN:VEVENT
DTSTART;TZID=America/Chicago:20190406T100000
DTEND;TZID=America/Chicago:20190406T223000
DTSTAMP:20260422T124758
CREATED:20190131T195352Z
LAST-MODIFIED:20190131T195352Z
UID:3415-1554544800-1554589800@www.brickhousetavernchi.com
SUMMARY:Cubs vs Brewers Pre-Party and Bus Trip
DESCRIPTION:Purchase Your Tickets
URL:https://www.brickhousetavernchi.com/event/cubs-vs-brewers-pre-party-and-bus-trip/
LOCATION:Budweiser Brickhouse Tavern\, 3647 N. Clark Street\, Chicago\, 60613\, United States
CATEGORIES:Cubs vs Brewers Pre-Party and Bus Trip
GEO:41.9486217;-87.6573371
X-APPLE-STRUCTURED-LOCATION;VALUE=URI;X-ADDRESS=Budweiser Brickhouse Tavern 3647 N. Clark Street Chicago 60613 United States;X-APPLE-RADIUS=500;X-TITLE=3647 N. Clark Street:geo:-87.6573371,41.9486217
END:VEVENT
END:VCALENDAR