BEGIN:VCALENDAR
VERSION:2.0
PRODID:-//Budweiser Brickhouse Tavern - ECPv6.15.20//NONSGML v1.0//EN
CALSCALE:GREGORIAN
METHOD:PUBLISH
X-ORIGINAL-URL:https://www.brickhousetavernchi.com
X-WR-CALDESC:Events for Budweiser Brickhouse Tavern
REFRESH-INTERVAL;VALUE=DURATION:PT1H
X-Robots-Tag:noindex
X-PUBLISHED-TTL:PT1H
BEGIN:VTIMEZONE
TZID:America/Chicago
BEGIN:DAYLIGHT
TZOFFSETFROM:-0600
TZOFFSETTO:-0500
TZNAME:CDT
DTSTART:20180311T080000
END:DAYLIGHT
BEGIN:STANDARD
TZOFFSETFROM:-0500
TZOFFSETTO:-0600
TZNAME:CST
DTSTART:20181104T070000
END:STANDARD
BEGIN:DAYLIGHT
TZOFFSETFROM:-0600
TZOFFSETTO:-0500
TZNAME:CDT
DTSTART:20190310T080000
END:DAYLIGHT
BEGIN:STANDARD
TZOFFSETFROM:-0500
TZOFFSETTO:-0600
TZNAME:CST
DTSTART:20191103T070000
END:STANDARD
BEGIN:DAYLIGHT
TZOFFSETFROM:-0600
TZOFFSETTO:-0500
TZNAME:CDT
DTSTART:20200308T080000
END:DAYLIGHT
BEGIN:STANDARD
TZOFFSETFROM:-0500
TZOFFSETTO:-0600
TZNAME:CST
DTSTART:20201101T070000
END:STANDARD
END:VTIMEZONE
BEGIN:VEVENT
DTSTART;TZID=America/Chicago:20190505T100000
DTEND;TZID=America/Chicago:20190505T150000
DTSTAMP:20260424T062718
CREATED:20190429T193953Z
LAST-MODIFIED:20190429T193953Z
UID:3711-1557050400-1557068400@www.brickhousetavernchi.com
SUMMARY:Let's Brunch Wrigleyville
DESCRIPTION:RESERVE YOUR TABLE
URL:https://www.brickhousetavernchi.com/event/lets-brunch-wrigleyville-18/
LOCATION:Budweiser Brickhouse Tavern\, 3647 N. Clark Street\, Chicago\, 60613\, United States
CATEGORIES:Lets Brunch Wrigleyville
GEO:41.9486217;-87.6573371
X-APPLE-STRUCTURED-LOCATION;VALUE=URI;X-ADDRESS=Budweiser Brickhouse Tavern 3647 N. Clark Street Chicago 60613 United States;X-APPLE-RADIUS=500;X-TITLE=3647 N. Clark Street:geo:-87.6573371,41.9486217
END:VEVENT
BEGIN:VEVENT
DTSTART;TZID=America/Chicago:20190504T100000
DTEND;TZID=America/Chicago:20190504T150000
DTSTAMP:20260424T062718
CREATED:20190429T193607Z
LAST-MODIFIED:20190429T193607Z
UID:3710-1556964000-1556982000@www.brickhousetavernchi.com
SUMMARY:Let's Brunch Wrigleyville
DESCRIPTION:RESERVE YOUR TABLE
URL:https://www.brickhousetavernchi.com/event/lets-brunch-wrigleyville-17/
LOCATION:Budweiser Brickhouse Tavern\, 3647 N. Clark Street\, Chicago\, 60613\, United States
CATEGORIES:Lets Brunch Wrigleyville
GEO:41.9486217;-87.6573371
X-APPLE-STRUCTURED-LOCATION;VALUE=URI;X-ADDRESS=Budweiser Brickhouse Tavern 3647 N. Clark Street Chicago 60613 United States;X-APPLE-RADIUS=500;X-TITLE=3647 N. Clark Street:geo:-87.6573371,41.9486217
END:VEVENT
BEGIN:VEVENT
DTSTART;TZID=America/Chicago:20190428T100000
DTEND;TZID=America/Chicago:20190428T150000
DTSTAMP:20260424T062718
CREATED:20190410T204718Z
LAST-MODIFIED:20190411T153225Z
UID:3666-1556445600-1556463600@www.brickhousetavernchi.com
SUMMARY:Let's Brunch Wrigleyville
DESCRIPTION:LEARN MORE
URL:https://www.brickhousetavernchi.com/event/lets-brunch-wrigleyville-16/
LOCATION:Budweiser Brickhouse Tavern\, 3647 N. Clark Street\, Chicago\, 60613\, United States
CATEGORIES:Lets Brunch Wrigleyville
GEO:41.9486217;-87.6573371
X-APPLE-STRUCTURED-LOCATION;VALUE=URI;X-ADDRESS=Budweiser Brickhouse Tavern 3647 N. Clark Street Chicago 60613 United States;X-APPLE-RADIUS=500;X-TITLE=3647 N. Clark Street:geo:-87.6573371,41.9486217
END:VEVENT
BEGIN:VEVENT
DTSTART;TZID=America/Chicago:20190427T100000
DTEND;TZID=America/Chicago:20190427T150000
DTSTAMP:20260424T062718
CREATED:20190410T204530Z
LAST-MODIFIED:20190411T153212Z
UID:3665-1556359200-1556377200@www.brickhousetavernchi.com
SUMMARY:Let's Brunch Wrigleyville
DESCRIPTION:LEARN MORE
URL:https://www.brickhousetavernchi.com/event/lets-brunch-wrigleyville-15/
LOCATION:Budweiser Brickhouse Tavern\, 3647 N. Clark Street\, Chicago\, 60613\, United States
CATEGORIES:Lets Brunch Wrigleyville
GEO:41.9486217;-87.6573371
X-APPLE-STRUCTURED-LOCATION;VALUE=URI;X-ADDRESS=Budweiser Brickhouse Tavern 3647 N. Clark Street Chicago 60613 United States;X-APPLE-RADIUS=500;X-TITLE=3647 N. Clark Street:geo:-87.6573371,41.9486217
END:VEVENT
BEGIN:VEVENT
DTSTART;TZID=America/Chicago:20190420T100000
DTEND;TZID=America/Chicago:20190420T150000
DTSTAMP:20260424T062718
CREATED:20190410T204150Z
LAST-MODIFIED:20190411T153146Z
UID:3663-1555754400-1555772400@www.brickhousetavernchi.com
SUMMARY:Let's Brunch Wrigleyville
DESCRIPTION:LEARN MORE
URL:https://www.brickhousetavernchi.com/event/lets-brunch-wrigleyville-14/
LOCATION:Budweiser Brickhouse Tavern\, 3647 N. Clark Street\, Chicago\, 60613\, United States
CATEGORIES:Lets Brunch Wrigleyville
GEO:41.9486217;-87.6573371
X-APPLE-STRUCTURED-LOCATION;VALUE=URI;X-ADDRESS=Budweiser Brickhouse Tavern 3647 N. Clark Street Chicago 60613 United States;X-APPLE-RADIUS=500;X-TITLE=3647 N. Clark Street:geo:-87.6573371,41.9486217
END:VEVENT
BEGIN:VEVENT
DTSTART;TZID=America/Chicago:20190414T100000
DTEND;TZID=America/Chicago:20190414T150000
DTSTAMP:20260424T062718
CREATED:20190410T201033Z
LAST-MODIFIED:20190411T153118Z
UID:3661-1555236000-1555254000@www.brickhousetavernchi.com
SUMMARY:Let's Brunch Wrigleyville
DESCRIPTION:LEARN MORE
URL:https://www.brickhousetavernchi.com/event/lets-brunch-wrigleyville-13/
LOCATION:Budweiser Brickhouse Tavern\, 3647 N. Clark Street\, Chicago\, 60613\, United States
CATEGORIES:Lets Brunch Wrigleyville
GEO:41.9486217;-87.6573371
X-APPLE-STRUCTURED-LOCATION;VALUE=URI;X-ADDRESS=Budweiser Brickhouse Tavern 3647 N. Clark Street Chicago 60613 United States;X-APPLE-RADIUS=500;X-TITLE=3647 N. Clark Street:geo:-87.6573371,41.9486217
END:VEVENT
BEGIN:VEVENT
DTSTART;TZID=America/Chicago:20190413T100000
DTEND;TZID=America/Chicago:20190413T150000
DTSTAMP:20260424T062718
CREATED:20190410T201033Z
LAST-MODIFIED:20190411T153020Z
UID:3660-1555149600-1555167600@www.brickhousetavernchi.com
SUMMARY:Let's Brunch Wrigleyville
DESCRIPTION:LEARN MORE
URL:https://www.brickhousetavernchi.com/event/lets-brunch-wrigleyville-12/
LOCATION:Budweiser Brickhouse Tavern\, 3647 N. Clark Street\, Chicago\, 60613\, United States
CATEGORIES:Lets Brunch Wrigleyville
GEO:41.9486217;-87.6573371
X-APPLE-STRUCTURED-LOCATION;VALUE=URI;X-ADDRESS=Budweiser Brickhouse Tavern 3647 N. Clark Street Chicago 60613 United States;X-APPLE-RADIUS=500;X-TITLE=3647 N. Clark Street:geo:-87.6573371,41.9486217
END:VEVENT
BEGIN:VEVENT
DTSTART;TZID=America/Chicago:20190408T180000
DTEND;TZID=America/Chicago:20190408T220000
DTSTAMP:20260424T062718
CREATED:20190301T203708Z
LAST-MODIFIED:20190301T203746Z
UID:3521-1554746400-1554760800@www.brickhousetavernchi.com
SUMMARY:Basketball Viewing Party
DESCRIPTION:RESERVE TABLE
URL:https://www.brickhousetavernchi.com/event/basketball-viewing-party-10/
LOCATION:Budweiser Brickhouse Tavern\, 3647 N. Clark Street\, Chicago\, 60613\, United States
CATEGORIES:Basketball Viewing Party
GEO:41.9486217;-87.6573371
X-APPLE-STRUCTURED-LOCATION;VALUE=URI;X-ADDRESS=Budweiser Brickhouse Tavern 3647 N. Clark Street Chicago 60613 United States;X-APPLE-RADIUS=500;X-TITLE=3647 N. Clark Street:geo:-87.6573371,41.9486217
END:VEVENT
BEGIN:VEVENT
DTSTART;TZID=America/Chicago:20190408T090000
DTEND;TZID=America/Chicago:20190408T223000
DTSTAMP:20260424T062718
CREATED:20190328T154131Z
LAST-MODIFIED:20190328T154131Z
UID:3609-1554714000-1554762600@www.brickhousetavernchi.com
SUMMARY:Cubs Home Opener
DESCRIPTION:
URL:https://www.brickhousetavernchi.com/event/cubs-home-opener/
LOCATION:Budweiser Brickhouse Tavern\, 3647 N. Clark Street\, Chicago\, 60613\, United States
CATEGORIES:Cubs Home Opener
GEO:41.9486217;-87.6573371
X-APPLE-STRUCTURED-LOCATION;VALUE=URI;X-ADDRESS=Budweiser Brickhouse Tavern 3647 N. Clark Street Chicago 60613 United States;X-APPLE-RADIUS=500;X-TITLE=3647 N. Clark Street:geo:-87.6573371,41.9486217
END:VEVENT
BEGIN:VEVENT
DTSTART;TZID=America/Chicago:20190406T100000
DTEND;TZID=America/Chicago:20190406T223000
DTSTAMP:20260424T062718
CREATED:20190131T195352Z
LAST-MODIFIED:20190131T195352Z
UID:3415-1554544800-1554589800@www.brickhousetavernchi.com
SUMMARY:Cubs vs Brewers Pre-Party and Bus Trip
DESCRIPTION:Purchase Your Tickets
URL:https://www.brickhousetavernchi.com/event/cubs-vs-brewers-pre-party-and-bus-trip/
LOCATION:Budweiser Brickhouse Tavern\, 3647 N. Clark Street\, Chicago\, 60613\, United States
CATEGORIES:Cubs vs Brewers Pre-Party and Bus Trip
GEO:41.9486217;-87.6573371
X-APPLE-STRUCTURED-LOCATION;VALUE=URI;X-ADDRESS=Budweiser Brickhouse Tavern 3647 N. Clark Street Chicago 60613 United States;X-APPLE-RADIUS=500;X-TITLE=3647 N. Clark Street:geo:-87.6573371,41.9486217
END:VEVENT
BEGIN:VEVENT
DTSTART;TZID=America/Chicago:20190406T100000
DTEND;TZID=America/Chicago:20190406T220000
DTSTAMP:20260424T062718
CREATED:20190301T203513Z
LAST-MODIFIED:20190301T203513Z
UID:3520-1554544800-1554588000@www.brickhousetavernchi.com
SUMMARY:Basketball Viewing Party
DESCRIPTION:RESERVE TABLE
URL:https://www.brickhousetavernchi.com/event/basketball-viewing-party-9/
LOCATION:Budweiser Brickhouse Tavern\, 3647 N. Clark Street\, Chicago\, 60613\, United States
CATEGORIES:Basketball Viewing Party
GEO:41.9486217;-87.6573371
X-APPLE-STRUCTURED-LOCATION;VALUE=URI;X-ADDRESS=Budweiser Brickhouse Tavern 3647 N. Clark Street Chicago 60613 United States;X-APPLE-RADIUS=500;X-TITLE=3647 N. Clark Street:geo:-87.6573371,41.9486217
END:VEVENT
BEGIN:VEVENT
DTSTART;TZID=America/Chicago:20190331T100000
DTEND;TZID=America/Chicago:20190331T220000
DTSTAMP:20260424T062718
CREATED:20190301T203223Z
LAST-MODIFIED:20190301T203223Z
UID:3519-1554026400-1554069600@www.brickhousetavernchi.com
SUMMARY:Basketball Viewing Party
DESCRIPTION:RESERVE TABLE
URL:https://www.brickhousetavernchi.com/event/basketball-viewing-party-8/
LOCATION:Budweiser Brickhouse Tavern\, 3647 N. Clark Street\, Chicago\, 60613\, United States
CATEGORIES:Basketball Viewing Party
GEO:41.9486217;-87.6573371
X-APPLE-STRUCTURED-LOCATION;VALUE=URI;X-ADDRESS=Budweiser Brickhouse Tavern 3647 N. Clark Street Chicago 60613 United States;X-APPLE-RADIUS=500;X-TITLE=3647 N. Clark Street:geo:-87.6573371,41.9486217
END:VEVENT
BEGIN:VEVENT
DTSTART;TZID=America/Chicago:20190330T100000
DTEND;TZID=America/Chicago:20190330T230000
DTSTAMP:20260424T062718
CREATED:20190301T181206Z
LAST-MODIFIED:20190301T202747Z
UID:3509-1553940000-1553986800@www.brickhousetavernchi.com
SUMMARY:Basketball Viewing Party
DESCRIPTION:RESERVE TABLE
URL:https://www.brickhousetavernchi.com/event/basketball-viewing-party-7/
LOCATION:Budweiser Brickhouse Tavern\, 3647 N. Clark Street\, Chicago\, 60613\, United States
CATEGORIES:Basketball Viewing Party
GEO:41.9486217;-87.6573371
X-APPLE-STRUCTURED-LOCATION;VALUE=URI;X-ADDRESS=Budweiser Brickhouse Tavern 3647 N. Clark Street Chicago 60613 United States;X-APPLE-RADIUS=500;X-TITLE=3647 N. Clark Street:geo:-87.6573371,41.9486217
END:VEVENT
BEGIN:VEVENT
DTSTART;TZID=America/Chicago:20190329T110000
DTEND;TZID=America/Chicago:20190329T230000
DTSTAMP:20260424T062718
CREATED:20190301T175917Z
LAST-MODIFIED:20190318T190802Z
UID:3507-1553857200-1553900400@www.brickhousetavernchi.com
SUMMARY:Basketball Viewing Party
DESCRIPTION:RESERVE TABLE
URL:https://www.brickhousetavernchi.com/event/basketball-viewing-party-6/
LOCATION:Budweiser Brickhouse Tavern\, 3647 N. Clark Street\, Chicago\, 60613\, United States
CATEGORIES:Basketball Viewing Party
GEO:41.9486217;-87.6573371
X-APPLE-STRUCTURED-LOCATION;VALUE=URI;X-ADDRESS=Budweiser Brickhouse Tavern 3647 N. Clark Street Chicago 60613 United States;X-APPLE-RADIUS=500;X-TITLE=3647 N. Clark Street:geo:-87.6573371,41.9486217
END:VEVENT
BEGIN:VEVENT
DTSTART;TZID=America/Chicago:20190328T140000
DTEND;TZID=America/Chicago:20190328T233000
DTSTAMP:20260424T062718
CREATED:20190322T202002Z
LAST-MODIFIED:20190322T203527Z
UID:3596-1553781600-1553815800@www.brickhousetavernchi.com
SUMMARY:Cubs Season Opener
DESCRIPTION:RESERVE TABLE
URL:https://www.brickhousetavernchi.com/event/cubs-season-opener/
LOCATION:Budweiser Brickhouse Tavern\, 3647 N. Clark Street\, Chicago\, 60613\, United States
CATEGORIES:Season Opener
GEO:41.9486217;-87.6573371
X-APPLE-STRUCTURED-LOCATION;VALUE=URI;X-ADDRESS=Budweiser Brickhouse Tavern 3647 N. Clark Street Chicago 60613 United States;X-APPLE-RADIUS=500;X-TITLE=3647 N. Clark Street:geo:-87.6573371,41.9486217
END:VEVENT
BEGIN:VEVENT
DTSTART;TZID=America/Chicago:20190328T140000
DTEND;TZID=America/Chicago:20190328T230000
DTSTAMP:20260424T062718
CREATED:20190301T175211Z
LAST-MODIFIED:20190318T190624Z
UID:3506-1553781600-1553814000@www.brickhousetavernchi.com
SUMMARY:Basketball Viewing Party
DESCRIPTION:RESERVE TABLE
URL:https://www.brickhousetavernchi.com/event/basketball-viewing-party-5/
LOCATION:Budweiser Brickhouse Tavern\, 3647 N. Clark Street\, Chicago\, 60613\, United States
CATEGORIES:Basketball Viewing Party
GEO:41.9486217;-87.6573371
X-APPLE-STRUCTURED-LOCATION;VALUE=URI;X-ADDRESS=Budweiser Brickhouse Tavern 3647 N. Clark Street Chicago 60613 United States;X-APPLE-RADIUS=500;X-TITLE=3647 N. Clark Street:geo:-87.6573371,41.9486217
END:VEVENT
BEGIN:VEVENT
DTSTART;TZID=America/Chicago:20190324T100000
DTEND;TZID=America/Chicago:20190324T230000
DTSTAMP:20260424T062718
CREATED:20190301T174910Z
LAST-MODIFIED:20190301T202334Z
UID:3504-1553421600-1553468400@www.brickhousetavernchi.com
SUMMARY:Basketball Viewing Party
DESCRIPTION:RESERVE TABLE
URL:https://www.brickhousetavernchi.com/event/basketball-viewing-party-4/
LOCATION:Budweiser Brickhouse Tavern\, 3647 N. Clark Street\, Chicago\, 60613\, United States
CATEGORIES:Basketball Viewing Party
GEO:41.9486217;-87.6573371
X-APPLE-STRUCTURED-LOCATION;VALUE=URI;X-ADDRESS=Budweiser Brickhouse Tavern 3647 N. Clark Street Chicago 60613 United States;X-APPLE-RADIUS=500;X-TITLE=3647 N. Clark Street:geo:-87.6573371,41.9486217
END:VEVENT
BEGIN:VEVENT
DTSTART;TZID=America/Chicago:20190324T100000
DTEND;TZID=America/Chicago:20190324T150000
DTSTAMP:20260424T062718
CREATED:20190212T204638Z
LAST-MODIFIED:20190212T204638Z
UID:3466-1553421600-1553439600@www.brickhousetavernchi.com
SUMMARY:Let's Brunch Wrigleyville
DESCRIPTION:RESERVE A TABLE
URL:https://www.brickhousetavernchi.com/event/lets-brunch-wrigleyville-11/
LOCATION:Budweiser Brickhouse Tavern\, 3647 N. Clark Street\, Chicago\, 60613\, United States
CATEGORIES:Lets Brunch Wrigleyville
GEO:41.9486217;-87.6573371
X-APPLE-STRUCTURED-LOCATION;VALUE=URI;X-ADDRESS=Budweiser Brickhouse Tavern 3647 N. Clark Street Chicago 60613 United States;X-APPLE-RADIUS=500;X-TITLE=3647 N. Clark Street:geo:-87.6573371,41.9486217
END:VEVENT
BEGIN:VEVENT
DTSTART;TZID=America/Chicago:20190323T100000
DTEND;TZID=America/Chicago:20190323T230000
DTSTAMP:20260424T062718
CREATED:20190301T174601Z
LAST-MODIFIED:20190301T201232Z
UID:3503-1553335200-1553382000@www.brickhousetavernchi.com
SUMMARY:Basketball Viewing Party
DESCRIPTION:RESERVE TABLE
URL:https://www.brickhousetavernchi.com/event/basketball-viewing-party-3/
LOCATION:Budweiser Brickhouse Tavern\, 3647 N. Clark Street\, Chicago\, 60613\, United States
CATEGORIES:Basketball Viewing Party
GEO:41.9486217;-87.6573371
X-APPLE-STRUCTURED-LOCATION;VALUE=URI;X-ADDRESS=Budweiser Brickhouse Tavern 3647 N. Clark Street Chicago 60613 United States;X-APPLE-RADIUS=500;X-TITLE=3647 N. Clark Street:geo:-87.6573371,41.9486217
END:VEVENT
BEGIN:VEVENT
DTSTART;TZID=America/Chicago:20190323T100000
DTEND;TZID=America/Chicago:20190323T150000
DTSTAMP:20260424T062718
CREATED:20190212T204425Z
LAST-MODIFIED:20190212T204425Z
UID:3465-1553335200-1553353200@www.brickhousetavernchi.com
SUMMARY:Let's Brunch Wrigleyville
DESCRIPTION:RESERVE A TABLE
URL:https://www.brickhousetavernchi.com/event/lets-brunch-wrigleyville-10/
LOCATION:Budweiser Brickhouse Tavern\, 3647 N. Clark Street\, Chicago\, 60613\, United States
CATEGORIES:Lets Brunch Wrigleyville
GEO:41.9486217;-87.6573371
X-APPLE-STRUCTURED-LOCATION;VALUE=URI;X-ADDRESS=Budweiser Brickhouse Tavern 3647 N. Clark Street Chicago 60613 United States;X-APPLE-RADIUS=500;X-TITLE=3647 N. Clark Street:geo:-87.6573371,41.9486217
END:VEVENT
BEGIN:VEVENT
DTSTART;TZID=America/Chicago:20190322T110000
DTEND;TZID=America/Chicago:20190322T230000
DTSTAMP:20260424T062718
CREATED:20190301T174308Z
LAST-MODIFIED:20190301T195709Z
UID:3502-1553252400-1553295600@www.brickhousetavernchi.com
SUMMARY:Basketball Viewing Party
DESCRIPTION:RESERVE TABLE
URL:https://www.brickhousetavernchi.com/event/basketball-viewing-party-2/
LOCATION:Budweiser Brickhouse Tavern\, 3647 N. Clark Street\, Chicago\, 60613\, United States
CATEGORIES:Basketball Viewing Party
GEO:41.9486217;-87.6573371
X-APPLE-STRUCTURED-LOCATION;VALUE=URI;X-ADDRESS=Budweiser Brickhouse Tavern 3647 N. Clark Street Chicago 60613 United States;X-APPLE-RADIUS=500;X-TITLE=3647 N. Clark Street:geo:-87.6573371,41.9486217
END:VEVENT
BEGIN:VEVENT
DTSTART;TZID=America/Chicago:20190321T110000
DTEND;TZID=America/Chicago:20190321T230000
DTSTAMP:20260424T062718
CREATED:20190301T173744Z
LAST-MODIFIED:20190301T195306Z
UID:3501-1553166000-1553209200@www.brickhousetavernchi.com
SUMMARY:Basketball Viewing Party
DESCRIPTION:RESERVE TABLE
URL:https://www.brickhousetavernchi.com/event/basketball-viewing-party/
LOCATION:Budweiser Brickhouse Tavern\, 3647 N. Clark Street\, Chicago\, 60613\, United States
CATEGORIES:Basketball Viewing Party
GEO:41.9486217;-87.6573371
X-APPLE-STRUCTURED-LOCATION;VALUE=URI;X-ADDRESS=Budweiser Brickhouse Tavern 3647 N. Clark Street Chicago 60613 United States;X-APPLE-RADIUS=500;X-TITLE=3647 N. Clark Street:geo:-87.6573371,41.9486217
END:VEVENT
BEGIN:VEVENT
DTSTART;TZID=America/Chicago:20190317T100000
DTEND;TZID=America/Chicago:20190317T150000
DTSTAMP:20260424T062718
CREATED:20190212T204105Z
LAST-MODIFIED:20190212T204105Z
UID:3464-1552816800-1552834800@www.brickhousetavernchi.com
SUMMARY:Let's Brunch Wrigleyville
DESCRIPTION:RESERVE A TABLE
URL:https://www.brickhousetavernchi.com/event/lets-brunch-wrigleyville-9/
LOCATION:Budweiser Brickhouse Tavern\, 3647 N. Clark Street\, Chicago\, 60613\, United States
CATEGORIES:Lets Brunch Wrigleyville
GEO:41.9486217;-87.6573371
X-APPLE-STRUCTURED-LOCATION;VALUE=URI;X-ADDRESS=Budweiser Brickhouse Tavern 3647 N. Clark Street Chicago 60613 United States;X-APPLE-RADIUS=500;X-TITLE=3647 N. Clark Street:geo:-87.6573371,41.9486217
END:VEVENT
BEGIN:VEVENT
DTSTART;TZID=America/Chicago:20190316T090000
DTEND;TZID=America/Chicago:20190316T120000
DTSTAMP:20260424T062718
CREATED:20190123T212638Z
LAST-MODIFIED:20190123T212638Z
UID:3384-1552726800-1552737600@www.brickhousetavernchi.com
SUMMARY:St. Patrick's Day 2019
DESCRIPTION:Purchase Your Tickets
URL:https://www.brickhousetavernchi.com/event/st-patricks-day-2019/
LOCATION:Budweiser Brickhouse Tavern\, 3647 N. Clark Street\, Chicago\, 60613\, United States
CATEGORIES:St. Patrick's Day
GEO:41.9486217;-87.6573371
X-APPLE-STRUCTURED-LOCATION;VALUE=URI;X-ADDRESS=Budweiser Brickhouse Tavern 3647 N. Clark Street Chicago 60613 United States;X-APPLE-RADIUS=500;X-TITLE=3647 N. Clark Street:geo:-87.6573371,41.9486217
END:VEVENT
BEGIN:VEVENT
DTSTART;TZID=America/Chicago:20190311T190000
DTEND;TZID=America/Chicago:20190311T210000
DTSTAMP:20260424T062718
CREATED:20190225T161914Z
LAST-MODIFIED:20190225T161914Z
UID:3494-1552330800-1552338000@www.brickhousetavernchi.com
SUMMARY:The Bachelor Finale Watch Party
DESCRIPTION:RESERVE A TABLE
URL:https://www.brickhousetavernchi.com/event/the-bachelor-finale-watch-party/
LOCATION:Budweiser Brickhouse Tavern\, 3647 N. Clark Street\, Chicago\, 60613\, United States
CATEGORIES:The Bachelor Watch Parties
GEO:41.9486217;-87.6573371
X-APPLE-STRUCTURED-LOCATION;VALUE=URI;X-ADDRESS=Budweiser Brickhouse Tavern 3647 N. Clark Street Chicago 60613 United States;X-APPLE-RADIUS=500;X-TITLE=3647 N. Clark Street:geo:-87.6573371,41.9486217
END:VEVENT
BEGIN:VEVENT
DTSTART;TZID=America/Chicago:20190310T100000
DTEND;TZID=America/Chicago:20190310T150000
DTSTAMP:20260424T062718
CREATED:20190212T203912Z
LAST-MODIFIED:20190212T203912Z
UID:3463-1552212000-1552230000@www.brickhousetavernchi.com
SUMMARY:Let's Brunch Wrigleyville
DESCRIPTION:RESERVE A TABLE
URL:https://www.brickhousetavernchi.com/event/lets-brunch-wrigleyville-8/
LOCATION:Budweiser Brickhouse Tavern\, 3647 N. Clark Street\, Chicago\, 60613\, United States
CATEGORIES:Lets Brunch Wrigleyville
GEO:41.9486217;-87.6573371
X-APPLE-STRUCTURED-LOCATION;VALUE=URI;X-ADDRESS=Budweiser Brickhouse Tavern 3647 N. Clark Street Chicago 60613 United States;X-APPLE-RADIUS=500;X-TITLE=3647 N. Clark Street:geo:-87.6573371,41.9486217
END:VEVENT
BEGIN:VEVENT
DTSTART;TZID=America/Chicago:20190309T130000
DTEND;TZID=America/Chicago:20190309T150000
DTSTAMP:20260424T062718
CREATED:20190131T211444Z
LAST-MODIFIED:20190131T211713Z
UID:3433-1552136400-1552143600@www.brickhousetavernchi.com
SUMMARY:Kansas vs Baylor
DESCRIPTION:RESERVE TABLE
URL:https://www.brickhousetavernchi.com/event/kansas-vs-baylor/
LOCATION:Budweiser Brickhouse Tavern\, 3647 N. Clark Street\, Chicago\, 60613\, United States
CATEGORIES:Kansas Game Day Specials
GEO:41.9486217;-87.6573371
X-APPLE-STRUCTURED-LOCATION;VALUE=URI;X-ADDRESS=Budweiser Brickhouse Tavern 3647 N. Clark Street Chicago 60613 United States;X-APPLE-RADIUS=500;X-TITLE=3647 N. Clark Street:geo:-87.6573371,41.9486217
END:VEVENT
BEGIN:VEVENT
DTSTART;TZID=America/Chicago:20190309T100000
DTEND;TZID=America/Chicago:20190309T150000
DTSTAMP:20260424T062718
CREATED:20190212T203727Z
LAST-MODIFIED:20190212T203727Z
UID:3462-1552125600-1552143600@www.brickhousetavernchi.com
SUMMARY:Let's Brunch Wrigleyville
DESCRIPTION:RESERVE A TABLE
URL:https://www.brickhousetavernchi.com/event/lets-brunch-wrigleyville-7/
LOCATION:Budweiser Brickhouse Tavern\, 3647 N. Clark Street\, Chicago\, 60613\, United States
CATEGORIES:Lets Brunch Wrigleyville
GEO:41.9486217;-87.6573371
X-APPLE-STRUCTURED-LOCATION;VALUE=URI;X-ADDRESS=Budweiser Brickhouse Tavern 3647 N. Clark Street Chicago 60613 United States;X-APPLE-RADIUS=500;X-TITLE=3647 N. Clark Street:geo:-87.6573371,41.9486217
END:VEVENT
BEGIN:VEVENT
DTSTART;TZID=America/Chicago:20190304T190000
DTEND;TZID=America/Chicago:20190304T210000
DTSTAMP:20260424T062718
CREATED:20190225T161510Z
LAST-MODIFIED:20190225T161510Z
UID:3493-1551726000-1551733200@www.brickhousetavernchi.com
SUMMARY:The Bachelor Watch Party
DESCRIPTION:RESERVE A TABLE
URL:https://www.brickhousetavernchi.com/event/the-bachelor-watch-party-5/
LOCATION:Budweiser Brickhouse Tavern\, 3647 N. Clark Street\, Chicago\, 60613\, United States
CATEGORIES:The Bachelor Watch Parties
GEO:41.9486217;-87.6573371
X-APPLE-STRUCTURED-LOCATION;VALUE=URI;X-ADDRESS=Budweiser Brickhouse Tavern 3647 N. Clark Street Chicago 60613 United States;X-APPLE-RADIUS=500;X-TITLE=3647 N. Clark Street:geo:-87.6573371,41.9486217
END:VEVENT
BEGIN:VEVENT
DTSTART;TZID=America/Chicago:20190303T100000
DTEND;TZID=America/Chicago:20190303T150000
DTSTAMP:20260424T062718
CREATED:20190212T203523Z
LAST-MODIFIED:20190212T203523Z
UID:3461-1551607200-1551625200@www.brickhousetavernchi.com
SUMMARY:Let's Brunch Wrigleyville
DESCRIPTION:RESERVE A TABLE
URL:https://www.brickhousetavernchi.com/event/lets-brunch-wrigleyville-6/
LOCATION:Budweiser Brickhouse Tavern\, 3647 N. Clark Street\, Chicago\, 60613\, United States
CATEGORIES:Lets Brunch Wrigleyville
GEO:41.9486217;-87.6573371
X-APPLE-STRUCTURED-LOCATION;VALUE=URI;X-ADDRESS=Budweiser Brickhouse Tavern 3647 N. Clark Street Chicago 60613 United States;X-APPLE-RADIUS=500;X-TITLE=3647 N. Clark Street:geo:-87.6573371,41.9486217
END:VEVENT
END:VCALENDAR