BEGIN:VCALENDAR
VERSION:2.0
PRODID:-//Budweiser Brickhouse Tavern - ECPv6.15.20//NONSGML v1.0//EN
CALSCALE:GREGORIAN
METHOD:PUBLISH
X-WR-CALNAME:Budweiser Brickhouse Tavern
X-ORIGINAL-URL:https://www.brickhousetavernchi.com
X-WR-CALDESC:Events for Budweiser Brickhouse Tavern
REFRESH-INTERVAL;VALUE=DURATION:PT1H
X-Robots-Tag:noindex
X-PUBLISHED-TTL:PT1H
BEGIN:VTIMEZONE
TZID:America/Chicago
BEGIN:DAYLIGHT
TZOFFSETFROM:-0600
TZOFFSETTO:-0500
TZNAME:CDT
DTSTART:20180311T080000
END:DAYLIGHT
BEGIN:STANDARD
TZOFFSETFROM:-0500
TZOFFSETTO:-0600
TZNAME:CST
DTSTART:20181104T070000
END:STANDARD
BEGIN:DAYLIGHT
TZOFFSETFROM:-0600
TZOFFSETTO:-0500
TZNAME:CDT
DTSTART:20190310T080000
END:DAYLIGHT
BEGIN:STANDARD
TZOFFSETFROM:-0500
TZOFFSETTO:-0600
TZNAME:CST
DTSTART:20191103T070000
END:STANDARD
BEGIN:DAYLIGHT
TZOFFSETFROM:-0600
TZOFFSETTO:-0500
TZNAME:CDT
DTSTART:20200308T080000
END:DAYLIGHT
BEGIN:STANDARD
TZOFFSETFROM:-0500
TZOFFSETTO:-0600
TZNAME:CST
DTSTART:20201101T070000
END:STANDARD
END:VTIMEZONE
BEGIN:VEVENT
DTSTART;TZID=America/Chicago:20190914T133000
DTEND;TZID=America/Chicago:20190914T180000
DTSTAMP:20260422T073509
CREATED:20190822T161722Z
LAST-MODIFIED:20190822T161722Z
UID:4083-1568467800-1568484000@www.brickhousetavernchi.com
SUMMARY:Notre Dame vs New Mexico
DESCRIPTION:RESERVE TABLE
URL:https://www.brickhousetavernchi.com/event/notre-dame-vs-new-mexico/
LOCATION:Budweiser Brickhouse Tavern\, 3647 N. Clark Street\, Chicago\, 60613\, United States
CATEGORIES:Official Home of Notre Dame Football Specials
GEO:41.9486217;-87.6573371
X-APPLE-STRUCTURED-LOCATION;VALUE=URI;X-ADDRESS=Budweiser Brickhouse Tavern 3647 N. Clark Street Chicago 60613 United States;X-APPLE-RADIUS=500;X-TITLE=3647 N. Clark Street:geo:-87.6573371,41.9486217
END:VEVENT
BEGIN:VEVENT
DTSTART;TZID=America/Chicago:20190902T190000
DTEND;TZID=America/Chicago:20190902T220000
DTSTAMP:20260422T073509
CREATED:20190822T160601Z
LAST-MODIFIED:20190822T160601Z
UID:4082-1567450800-1567461600@www.brickhousetavernchi.com
SUMMARY:Notre Dame @ Louisville
DESCRIPTION:RESERVE TABLE
URL:https://www.brickhousetavernchi.com/event/notre-dame-louisville/
LOCATION:Budweiser Brickhouse Tavern\, 3647 N. Clark Street\, Chicago\, 60613\, United States
CATEGORIES:Official Home of Notre Dame Football Specials
GEO:41.9486217;-87.6573371
X-APPLE-STRUCTURED-LOCATION;VALUE=URI;X-ADDRESS=Budweiser Brickhouse Tavern 3647 N. Clark Street Chicago 60613 United States;X-APPLE-RADIUS=500;X-TITLE=3647 N. Clark Street:geo:-87.6573371,41.9486217
END:VEVENT
END:VCALENDAR