BEGIN:VCALENDAR
VERSION:2.0
PRODID:-//Budweiser Brickhouse Tavern - ECPv6.15.20//NONSGML v1.0//EN
CALSCALE:GREGORIAN
METHOD:PUBLISH
X-ORIGINAL-URL:https://www.brickhousetavernchi.com
X-WR-CALDESC:Events for Budweiser Brickhouse Tavern
REFRESH-INTERVAL;VALUE=DURATION:PT1H
X-Robots-Tag:noindex
X-PUBLISHED-TTL:PT1H
BEGIN:VTIMEZONE
TZID:America/Chicago
BEGIN:DAYLIGHT
TZOFFSETFROM:-0600
TZOFFSETTO:-0500
TZNAME:CDT
DTSTART:20170312T080000
END:DAYLIGHT
BEGIN:STANDARD
TZOFFSETFROM:-0500
TZOFFSETTO:-0600
TZNAME:CST
DTSTART:20171105T070000
END:STANDARD
BEGIN:DAYLIGHT
TZOFFSETFROM:-0600
TZOFFSETTO:-0500
TZNAME:CDT
DTSTART:20180311T080000
END:DAYLIGHT
BEGIN:STANDARD
TZOFFSETFROM:-0500
TZOFFSETTO:-0600
TZNAME:CST
DTSTART:20181104T070000
END:STANDARD
BEGIN:DAYLIGHT
TZOFFSETFROM:-0600
TZOFFSETTO:-0500
TZNAME:CDT
DTSTART:20190310T080000
END:DAYLIGHT
BEGIN:STANDARD
TZOFFSETFROM:-0500
TZOFFSETTO:-0600
TZNAME:CST
DTSTART:20191103T070000
END:STANDARD
BEGIN:DAYLIGHT
TZOFFSETFROM:-0600
TZOFFSETTO:-0500
TZNAME:CDT
DTSTART:20200308T080000
END:DAYLIGHT
BEGIN:STANDARD
TZOFFSETFROM:-0500
TZOFFSETTO:-0600
TZNAME:CST
DTSTART:20201101T070000
END:STANDARD
END:VTIMEZONE
BEGIN:VEVENT
DTSTART;TZID=America/Chicago:20190217T100000
DTEND;TZID=America/Chicago:20190217T150000
DTSTAMP:20260420T164908
CREATED:20190212T202642Z
LAST-MODIFIED:20190212T202642Z
UID:3457-1550397600-1550415600@www.brickhousetavernchi.com
SUMMARY:Let's Brunch Wrigleyville
DESCRIPTION:RESERVE A TABLE
URL:https://www.brickhousetavernchi.com/event/lets-brunch-wrigleyville-2/
LOCATION:Budweiser Brickhouse Tavern\, 3647 N. Clark Street\, Chicago\, 60613\, United States
CATEGORIES:Lets Brunch Wrigleyville
GEO:41.9486217;-87.6573371
X-APPLE-STRUCTURED-LOCATION;VALUE=URI;X-ADDRESS=Budweiser Brickhouse Tavern 3647 N. Clark Street Chicago 60613 United States;X-APPLE-RADIUS=500;X-TITLE=3647 N. Clark Street:geo:-87.6573371,41.9486217
END:VEVENT
BEGIN:VEVENT
DTSTART;TZID=America/Chicago:20190216T100000
DTEND;TZID=America/Chicago:20190216T150000
DTSTAMP:20260420T164908
CREATED:20190212T202110Z
LAST-MODIFIED:20190212T202110Z
UID:3456-1550311200-1550329200@www.brickhousetavernchi.com
SUMMARY:Let's Brunch Wrigleyville
DESCRIPTION:RESERVE A TABLE
URL:https://www.brickhousetavernchi.com/event/lets-brunch-wrigleyville/
LOCATION:Budweiser Brickhouse Tavern\, 3647 N. Clark Street\, Chicago\, 60613\, United States
CATEGORIES:Lets Brunch Wrigleyville
GEO:41.9486217;-87.6573371
X-APPLE-STRUCTURED-LOCATION;VALUE=URI;X-ADDRESS=Budweiser Brickhouse Tavern 3647 N. Clark Street Chicago 60613 United States;X-APPLE-RADIUS=500;X-TITLE=3647 N. Clark Street:geo:-87.6573371,41.9486217
END:VEVENT
BEGIN:VEVENT
DTSTART;TZID=America/Chicago:20181111T100000
DTEND;TZID=America/Chicago:20181111T150000
DTSTAMP:20260420T164908
CREATED:20181025T190849Z
LAST-MODIFIED:20181025T191951Z
UID:3136-1541930400-1541948400@www.brickhousetavernchi.com
SUMMARY:Veterans Day Brunch
DESCRIPTION:RESERVE TABLE
URL:https://www.brickhousetavernchi.com/event/veterans-day-brunch/
LOCATION:Budweiser Brickhouse Tavern\, 3647 N. Clark Street\, Chicago\, 60613\, United States
CATEGORIES:Lets Brunch Wrigleyville
GEO:41.9486217;-87.6573371
X-APPLE-STRUCTURED-LOCATION;VALUE=URI;X-ADDRESS=Budweiser Brickhouse Tavern 3647 N. Clark Street Chicago 60613 United States;X-APPLE-RADIUS=500;X-TITLE=3647 N. Clark Street:geo:-87.6573371,41.9486217
END:VEVENT
END:VCALENDAR