BEGIN:VCALENDAR
VERSION:2.0
PRODID:-//Budweiser Brickhouse Tavern - ECPv6.15.20//NONSGML v1.0//EN
CALSCALE:GREGORIAN
METHOD:PUBLISH
X-WR-CALNAME:Budweiser Brickhouse Tavern
X-ORIGINAL-URL:https://www.brickhousetavernchi.com
X-WR-CALDESC:Events for Budweiser Brickhouse Tavern
REFRESH-INTERVAL;VALUE=DURATION:PT1H
X-Robots-Tag:noindex
X-PUBLISHED-TTL:PT1H
BEGIN:VTIMEZONE
TZID:America/Chicago
BEGIN:DAYLIGHT
TZOFFSETFROM:-0600
TZOFFSETTO:-0500
TZNAME:CDT
DTSTART:20180311T080000
END:DAYLIGHT
BEGIN:STANDARD
TZOFFSETFROM:-0500
TZOFFSETTO:-0600
TZNAME:CST
DTSTART:20181104T070000
END:STANDARD
BEGIN:DAYLIGHT
TZOFFSETFROM:-0600
TZOFFSETTO:-0500
TZNAME:CDT
DTSTART:20190310T080000
END:DAYLIGHT
BEGIN:STANDARD
TZOFFSETFROM:-0500
TZOFFSETTO:-0600
TZNAME:CST
DTSTART:20191103T070000
END:STANDARD
BEGIN:DAYLIGHT
TZOFFSETFROM:-0600
TZOFFSETTO:-0500
TZNAME:CDT
DTSTART:20200308T080000
END:DAYLIGHT
BEGIN:STANDARD
TZOFFSETFROM:-0500
TZOFFSETTO:-0600
TZNAME:CST
DTSTART:20201101T070000
END:STANDARD
END:VTIMEZONE
BEGIN:VEVENT
DTSTART;TZID=America/Chicago:20191130T100000
DTEND;TZID=America/Chicago:20191130T150000
DTSTAMP:20260420T071401
CREATED:20190930T163806Z
LAST-MODIFIED:20190930T163806Z
UID:4203-1575108000-1575126000@www.brickhousetavernchi.com
SUMMARY:Let's Brunch Wrigleyville
DESCRIPTION:RESERVE TABLE
URL:https://www.brickhousetavernchi.com/event/lets-brunch-wrigleyville-41/
LOCATION:Budweiser Brickhouse Tavern\, 3647 N. Clark Street\, Chicago\, 60613\, United States
CATEGORIES:Lets Brunch Wrigleyville
GEO:41.9486217;-87.6573371
X-APPLE-STRUCTURED-LOCATION;VALUE=URI;X-ADDRESS=Budweiser Brickhouse Tavern 3647 N. Clark Street Chicago 60613 United States;X-APPLE-RADIUS=500;X-TITLE=3647 N. Clark Street:geo:-87.6573371,41.9486217
END:VEVENT
BEGIN:VEVENT
DTSTART;TZID=America/Chicago:20191124T100000
DTEND;TZID=America/Chicago:20191124T150000
DTSTAMP:20260420T071401
CREATED:20190930T163753Z
LAST-MODIFIED:20190930T163753Z
UID:4202-1574589600-1574607600@www.brickhousetavernchi.com
SUMMARY:Let's Brunch Wrigleyville
DESCRIPTION:RESERVE TABLE
URL:https://www.brickhousetavernchi.com/event/lets-brunch-wrigleyville-40/
LOCATION:Budweiser Brickhouse Tavern\, 3647 N. Clark Street\, Chicago\, 60613\, United States
CATEGORIES:Lets Brunch Wrigleyville
GEO:41.9486217;-87.6573371
X-APPLE-STRUCTURED-LOCATION;VALUE=URI;X-ADDRESS=Budweiser Brickhouse Tavern 3647 N. Clark Street Chicago 60613 United States;X-APPLE-RADIUS=500;X-TITLE=3647 N. Clark Street:geo:-87.6573371,41.9486217
END:VEVENT
BEGIN:VEVENT
DTSTART;TZID=America/Chicago:20191123T100000
DTEND;TZID=America/Chicago:20191123T150000
DTSTAMP:20260420T071401
CREATED:20190930T163739Z
LAST-MODIFIED:20190930T163739Z
UID:4204-1574503200-1574521200@www.brickhousetavernchi.com
SUMMARY:Let's Brunch Wrigleyville
DESCRIPTION:RESERVE TABLE
URL:https://www.brickhousetavernchi.com/event/lets-brunch-wrigleyville-39/
LOCATION:Budweiser Brickhouse Tavern\, 3647 N. Clark Street\, Chicago\, 60613\, United States
CATEGORIES:Lets Brunch Wrigleyville
GEO:41.9486217;-87.6573371
X-APPLE-STRUCTURED-LOCATION;VALUE=URI;X-ADDRESS=Budweiser Brickhouse Tavern 3647 N. Clark Street Chicago 60613 United States;X-APPLE-RADIUS=500;X-TITLE=3647 N. Clark Street:geo:-87.6573371,41.9486217
END:VEVENT
BEGIN:VEVENT
DTSTART;TZID=America/Chicago:20191117T100000
DTEND;TZID=America/Chicago:20191117T150000
DTSTAMP:20260420T071401
CREATED:20190930T163346Z
LAST-MODIFIED:20190930T163346Z
UID:4201-1573984800-1574002800@www.brickhousetavernchi.com
SUMMARY:Let's Brunch Wrigleyville
DESCRIPTION:RESERVE TABLE
URL:https://www.brickhousetavernchi.com/event/lets-brunch-wrigleyville-38/
LOCATION:Budweiser Brickhouse Tavern\, 3647 N. Clark Street\, Chicago\, 60613\, United States
CATEGORIES:Lets Brunch Wrigleyville
GEO:41.9486217;-87.6573371
X-APPLE-STRUCTURED-LOCATION;VALUE=URI;X-ADDRESS=Budweiser Brickhouse Tavern 3647 N. Clark Street Chicago 60613 United States;X-APPLE-RADIUS=500;X-TITLE=3647 N. Clark Street:geo:-87.6573371,41.9486217
END:VEVENT
BEGIN:VEVENT
DTSTART;TZID=America/Chicago:20191116T100000
DTEND;TZID=America/Chicago:20191116T150000
DTSTAMP:20260420T071401
CREATED:20190930T163130Z
LAST-MODIFIED:20190930T163130Z
UID:4200-1573898400-1573916400@www.brickhousetavernchi.com
SUMMARY:Let's Brunch Wrigleyville
DESCRIPTION:RESERVE TABLE
URL:https://www.brickhousetavernchi.com/event/lets-brunch-wrigleyville-37/
LOCATION:Budweiser Brickhouse Tavern\, 3647 N. Clark Street\, Chicago\, 60613\, United States
CATEGORIES:Lets Brunch Wrigleyville
GEO:41.9486217;-87.6573371
X-APPLE-STRUCTURED-LOCATION;VALUE=URI;X-ADDRESS=Budweiser Brickhouse Tavern 3647 N. Clark Street Chicago 60613 United States;X-APPLE-RADIUS=500;X-TITLE=3647 N. Clark Street:geo:-87.6573371,41.9486217
END:VEVENT
BEGIN:VEVENT
DTSTART;TZID=America/Chicago:20191110T100000
DTEND;TZID=America/Chicago:20191110T150000
DTSTAMP:20260420T071401
CREATED:20190930T163020Z
LAST-MODIFIED:20190930T163020Z
UID:4199-1573380000-1573398000@www.brickhousetavernchi.com
SUMMARY:Let's Brunch Wrigleyville
DESCRIPTION:RESERVE TABLE
URL:https://www.brickhousetavernchi.com/event/lets-brunch-wrigleyville-36/
LOCATION:Budweiser Brickhouse Tavern\, 3647 N. Clark Street\, Chicago\, 60613\, United States
CATEGORIES:Lets Brunch Wrigleyville
GEO:41.9486217;-87.6573371
X-APPLE-STRUCTURED-LOCATION;VALUE=URI;X-ADDRESS=Budweiser Brickhouse Tavern 3647 N. Clark Street Chicago 60613 United States;X-APPLE-RADIUS=500;X-TITLE=3647 N. Clark Street:geo:-87.6573371,41.9486217
END:VEVENT
BEGIN:VEVENT
DTSTART;TZID=America/Chicago:20191103T100000
DTEND;TZID=America/Chicago:20191103T150000
DTSTAMP:20260420T071401
CREATED:20190930T162538Z
LAST-MODIFIED:20190930T162734Z
UID:4194-1572775200-1572793200@www.brickhousetavernchi.com
SUMMARY:Let's Brunch Wrigleyville
DESCRIPTION:RESERVE TABLE
URL:https://www.brickhousetavernchi.com/event/lets-brunch-wrigleyville-34/
LOCATION:Budweiser Brickhouse Tavern\, 3647 N. Clark Street\, Chicago\, 60613\, United States
CATEGORIES:Lets Brunch Wrigleyville
GEO:41.9486217;-87.6573371
X-APPLE-STRUCTURED-LOCATION;VALUE=URI;X-ADDRESS=Budweiser Brickhouse Tavern 3647 N. Clark Street Chicago 60613 United States;X-APPLE-RADIUS=500;X-TITLE=3647 N. Clark Street:geo:-87.6573371,41.9486217
END:VEVENT
BEGIN:VEVENT
DTSTART;TZID=America/Chicago:20191102T100000
DTEND;TZID=America/Chicago:20191102T150000
DTSTAMP:20260420T071401
CREATED:20190930T162405Z
LAST-MODIFIED:20190930T162405Z
UID:4193-1572688800-1572706800@www.brickhousetavernchi.com
SUMMARY:Let's Brunch Wrigleyville
DESCRIPTION:RESERVE TABLE
URL:https://www.brickhousetavernchi.com/event/lets-brunch-wrigleyville-33/
LOCATION:Budweiser Brickhouse Tavern\, 3647 N. Clark Street\, Chicago\, 60613\, United States
CATEGORIES:Lets Brunch Wrigleyville
GEO:41.9486217;-87.6573371
X-APPLE-STRUCTURED-LOCATION;VALUE=URI;X-ADDRESS=Budweiser Brickhouse Tavern 3647 N. Clark Street Chicago 60613 United States;X-APPLE-RADIUS=500;X-TITLE=3647 N. Clark Street:geo:-87.6573371,41.9486217
END:VEVENT
BEGIN:VEVENT
DTSTART;TZID=America/Chicago:20191027T100000
DTEND;TZID=America/Chicago:20191027T150000
DTSTAMP:20260420T071401
CREATED:20190930T162056Z
LAST-MODIFIED:20190930T162056Z
UID:4192-1572170400-1572188400@www.brickhousetavernchi.com
SUMMARY:Let's Brunch Wrigleyville
DESCRIPTION:RESERVE TABLE
URL:https://www.brickhousetavernchi.com/event/lets-brunch-wrigleyville-32/
LOCATION:Budweiser Brickhouse Tavern\, 3647 N. Clark Street\, Chicago\, 60613\, United States
CATEGORIES:Lets Brunch Wrigleyville
GEO:41.9486217;-87.6573371
X-APPLE-STRUCTURED-LOCATION;VALUE=URI;X-ADDRESS=Budweiser Brickhouse Tavern 3647 N. Clark Street Chicago 60613 United States;X-APPLE-RADIUS=500;X-TITLE=3647 N. Clark Street:geo:-87.6573371,41.9486217
END:VEVENT
BEGIN:VEVENT
DTSTART;TZID=America/Chicago:20191026T100000
DTEND;TZID=America/Chicago:20191026T150000
DTSTAMP:20260420T071401
CREATED:20190930T161933Z
LAST-MODIFIED:20190930T161933Z
UID:4191-1572084000-1572102000@www.brickhousetavernchi.com
SUMMARY:Let's Brunch Wrigleyville
DESCRIPTION:RESERVE TABLE
URL:https://www.brickhousetavernchi.com/event/lets-brunch-wrigleyville-31/
LOCATION:Budweiser Brickhouse Tavern\, 3647 N. Clark Street\, Chicago\, 60613\, United States
CATEGORIES:Lets Brunch Wrigleyville
GEO:41.9486217;-87.6573371
X-APPLE-STRUCTURED-LOCATION;VALUE=URI;X-ADDRESS=Budweiser Brickhouse Tavern 3647 N. Clark Street Chicago 60613 United States;X-APPLE-RADIUS=500;X-TITLE=3647 N. Clark Street:geo:-87.6573371,41.9486217
END:VEVENT
BEGIN:VEVENT
DTSTART;TZID=America/Chicago:20191020T100000
DTEND;TZID=America/Chicago:20191020T150000
DTSTAMP:20260420T071401
CREATED:20190930T161338Z
LAST-MODIFIED:20190930T161338Z
UID:4190-1571565600-1571583600@www.brickhousetavernchi.com
SUMMARY:Let's Brunch Wrigleyville
DESCRIPTION:RESERVE TABLE
URL:https://www.brickhousetavernchi.com/event/lets-brunch-wrigleyville-30/
LOCATION:Budweiser Brickhouse Tavern\, 3647 N. Clark Street\, Chicago\, 60613\, United States
CATEGORIES:Lets Brunch Wrigleyville
GEO:41.9486217;-87.6573371
X-APPLE-STRUCTURED-LOCATION;VALUE=URI;X-ADDRESS=Budweiser Brickhouse Tavern 3647 N. Clark Street Chicago 60613 United States;X-APPLE-RADIUS=500;X-TITLE=3647 N. Clark Street:geo:-87.6573371,41.9486217
END:VEVENT
BEGIN:VEVENT
DTSTART;TZID=America/Chicago:20191019T100000
DTEND;TZID=America/Chicago:20191019T150000
DTSTAMP:20260420T071401
CREATED:20190930T161202Z
LAST-MODIFIED:20190930T161202Z
UID:4189-1571479200-1571497200@www.brickhousetavernchi.com
SUMMARY:Let's Brunch Wrigleyville
DESCRIPTION:RESERVE TABLE
URL:https://www.brickhousetavernchi.com/event/lets-brunch-wrigleyville-29/
LOCATION:Budweiser Brickhouse Tavern\, 3647 N. Clark Street\, Chicago\, 60613\, United States
CATEGORIES:Lets Brunch Wrigleyville
GEO:41.9486217;-87.6573371
X-APPLE-STRUCTURED-LOCATION;VALUE=URI;X-ADDRESS=Budweiser Brickhouse Tavern 3647 N. Clark Street Chicago 60613 United States;X-APPLE-RADIUS=500;X-TITLE=3647 N. Clark Street:geo:-87.6573371,41.9486217
END:VEVENT
BEGIN:VEVENT
DTSTART;TZID=America/Chicago:20191013T100000
DTEND;TZID=America/Chicago:20191013T150000
DTSTAMP:20260420T071401
CREATED:20190930T160357Z
LAST-MODIFIED:20190930T160357Z
UID:4188-1570960800-1570978800@www.brickhousetavernchi.com
SUMMARY:Let's Brunch Wrigleyville
DESCRIPTION:RESERVE TABLE
URL:https://www.brickhousetavernchi.com/event/lets-brunch-wrigleyville-28/
LOCATION:Budweiser Brickhouse Tavern\, 3647 N. Clark Street\, Chicago\, 60613\, United States
CATEGORIES:Lets Brunch Wrigleyville
GEO:41.9486217;-87.6573371
X-APPLE-STRUCTURED-LOCATION;VALUE=URI;X-ADDRESS=Budweiser Brickhouse Tavern 3647 N. Clark Street Chicago 60613 United States;X-APPLE-RADIUS=500;X-TITLE=3647 N. Clark Street:geo:-87.6573371,41.9486217
END:VEVENT
BEGIN:VEVENT
DTSTART;TZID=America/Chicago:20191012T100000
DTEND;TZID=America/Chicago:20191012T150000
DTSTAMP:20260420T071401
CREATED:20190930T160225Z
LAST-MODIFIED:20190930T160225Z
UID:4187-1570874400-1570892400@www.brickhousetavernchi.com
SUMMARY:Let's Brunch Wrigleyville
DESCRIPTION:RESERVE TABLE
URL:https://www.brickhousetavernchi.com/event/lets-brunch-wrigleyville-27/
LOCATION:Budweiser Brickhouse Tavern\, 3647 N. Clark Street\, Chicago\, 60613\, United States
CATEGORIES:Lets Brunch Wrigleyville
GEO:41.9486217;-87.6573371
X-APPLE-STRUCTURED-LOCATION;VALUE=URI;X-ADDRESS=Budweiser Brickhouse Tavern 3647 N. Clark Street Chicago 60613 United States;X-APPLE-RADIUS=500;X-TITLE=3647 N. Clark Street:geo:-87.6573371,41.9486217
END:VEVENT
BEGIN:VEVENT
DTSTART;TZID=America/Chicago:20191006T100000
DTEND;TZID=America/Chicago:20191006T150000
DTSTAMP:20260420T071401
CREATED:20190930T160041Z
LAST-MODIFIED:20190930T160041Z
UID:4185-1570356000-1570374000@www.brickhousetavernchi.com
SUMMARY:Let's Brunch Wrigleyville
DESCRIPTION:RESERVE TABLE
URL:https://www.brickhousetavernchi.com/event/lets-brunch-wrigleyville-26/
LOCATION:Budweiser Brickhouse Tavern\, 3647 N. Clark Street\, Chicago\, 60613\, United States
CATEGORIES:Lets Brunch Wrigleyville
GEO:41.9486217;-87.6573371
X-APPLE-STRUCTURED-LOCATION;VALUE=URI;X-ADDRESS=Budweiser Brickhouse Tavern 3647 N. Clark Street Chicago 60613 United States;X-APPLE-RADIUS=500;X-TITLE=3647 N. Clark Street:geo:-87.6573371,41.9486217
END:VEVENT
BEGIN:VEVENT
DTSTART;TZID=America/Chicago:20191005T100000
DTEND;TZID=America/Chicago:20191005T150000
DTSTAMP:20260420T071401
CREATED:20190930T155643Z
LAST-MODIFIED:20190930T155643Z
UID:4183-1570269600-1570287600@www.brickhousetavernchi.com
SUMMARY:Let's Brunch Wrigleyville
DESCRIPTION:RESERVE TABLE
URL:https://www.brickhousetavernchi.com/event/lets-brunch-wrigleyville-25/
LOCATION:Budweiser Brickhouse Tavern\, 3647 N. Clark Street\, Chicago\, 60613\, United States
CATEGORIES:Lets Brunch Wrigleyville
GEO:41.9486217;-87.6573371
X-APPLE-STRUCTURED-LOCATION;VALUE=URI;X-ADDRESS=Budweiser Brickhouse Tavern 3647 N. Clark Street Chicago 60613 United States;X-APPLE-RADIUS=500;X-TITLE=3647 N. Clark Street:geo:-87.6573371,41.9486217
END:VEVENT
BEGIN:VEVENT
DTSTART;TZID=America/Chicago:20190930T100000
DTEND;TZID=America/Chicago:20190930T150000
DTSTAMP:20260420T071401
CREATED:20190930T162858Z
LAST-MODIFIED:20190930T162858Z
UID:4198-1569837600-1569855600@www.brickhousetavernchi.com
SUMMARY:Let's Brunch Wrigleyville
DESCRIPTION:RESERVE TABLE
URL:https://www.brickhousetavernchi.com/event/lets-brunch-wrigleyville-35/
LOCATION:Budweiser Brickhouse Tavern\, 3647 N. Clark Street\, Chicago\, 60613\, United States
CATEGORIES:Lets Brunch Wrigleyville
GEO:41.9486217;-87.6573371
X-APPLE-STRUCTURED-LOCATION;VALUE=URI;X-ADDRESS=Budweiser Brickhouse Tavern 3647 N. Clark Street Chicago 60613 United States;X-APPLE-RADIUS=500;X-TITLE=3647 N. Clark Street:geo:-87.6573371,41.9486217
END:VEVENT
BEGIN:VEVENT
DTSTART;TZID=America/Chicago:20190527T190000
DTEND;TZID=America/Chicago:20190527T210000
DTSTAMP:20260420T071401
CREATED:20190508T152507Z
LAST-MODIFIED:20190508T152507Z
UID:3748-1558983600-1558990800@www.brickhousetavernchi.com
SUMMARY:Bachelorette Watch Party
DESCRIPTION:RESERVE TABLE
URL:https://www.brickhousetavernchi.com/event/bachelorette-watch-party-3/
LOCATION:Budweiser Brickhouse Tavern\, 3647 N. Clark Street\, Chicago\, 60613\, United States
CATEGORIES:Bachelorette Watch Party,Lets Brunch Wrigleyville
GEO:41.9486217;-87.6573371
X-APPLE-STRUCTURED-LOCATION;VALUE=URI;X-ADDRESS=Budweiser Brickhouse Tavern 3647 N. Clark Street Chicago 60613 United States;X-APPLE-RADIUS=500;X-TITLE=3647 N. Clark Street:geo:-87.6573371,41.9486217
END:VEVENT
BEGIN:VEVENT
DTSTART;TZID=America/Chicago:20190526T100000
DTEND;TZID=America/Chicago:20190526T150000
DTSTAMP:20260420T071401
CREATED:20190507T170039Z
LAST-MODIFIED:20190507T170238Z
UID:3744-1558864800-1558882800@www.brickhousetavernchi.com
SUMMARY:Let's Brunch Wrigleyville
DESCRIPTION:RESERVE TABLE
URL:https://www.brickhousetavernchi.com/event/lets-brunch-wrigleyville-24/
LOCATION:Budweiser Brickhouse Tavern\, 3647 N. Clark Street\, Chicago\, 60613\, United States
CATEGORIES:Lets Brunch Wrigleyville
GEO:41.9486217;-87.6573371
X-APPLE-STRUCTURED-LOCATION;VALUE=URI;X-ADDRESS=Budweiser Brickhouse Tavern 3647 N. Clark Street Chicago 60613 United States;X-APPLE-RADIUS=500;X-TITLE=3647 N. Clark Street:geo:-87.6573371,41.9486217
END:VEVENT
BEGIN:VEVENT
DTSTART;TZID=America/Chicago:20190525T100000
DTEND;TZID=America/Chicago:20190525T150000
DTSTAMP:20260420T071401
CREATED:20190507T165848Z
LAST-MODIFIED:20190507T165912Z
UID:3743-1558778400-1558796400@www.brickhousetavernchi.com
SUMMARY:Let's Brunch Wrigleyville
DESCRIPTION:RESERVE TABLE
URL:https://www.brickhousetavernchi.com/event/lets-brunch-wrigleyville-23/
LOCATION:Budweiser Brickhouse Tavern\, 3647 N. Clark Street\, Chicago\, 60613\, United States
CATEGORIES:Lets Brunch Wrigleyville
GEO:41.9486217;-87.6573371
X-APPLE-STRUCTURED-LOCATION;VALUE=URI;X-ADDRESS=Budweiser Brickhouse Tavern 3647 N. Clark Street Chicago 60613 United States;X-APPLE-RADIUS=500;X-TITLE=3647 N. Clark Street:geo:-87.6573371,41.9486217
END:VEVENT
BEGIN:VEVENT
DTSTART;TZID=America/Chicago:20190519T100000
DTEND;TZID=America/Chicago:20190519T150000
DTSTAMP:20260420T071401
CREATED:20190507T165652Z
LAST-MODIFIED:20190507T165709Z
UID:3742-1558260000-1558278000@www.brickhousetavernchi.com
SUMMARY:Let's Brunch Wrigleyville
DESCRIPTION:RESERVE TABLE
URL:https://www.brickhousetavernchi.com/event/lets-brunch-wrigleyville-22/
LOCATION:Budweiser Brickhouse Tavern\, 3647 N. Clark Street\, Chicago\, 60613\, United States
CATEGORIES:Lets Brunch Wrigleyville
GEO:41.9486217;-87.6573371
X-APPLE-STRUCTURED-LOCATION;VALUE=URI;X-ADDRESS=Budweiser Brickhouse Tavern 3647 N. Clark Street Chicago 60613 United States;X-APPLE-RADIUS=500;X-TITLE=3647 N. Clark Street:geo:-87.6573371,41.9486217
END:VEVENT
BEGIN:VEVENT
DTSTART;TZID=America/Chicago:20190518T100000
DTEND;TZID=America/Chicago:20190518T150000
DTSTAMP:20260420T071401
CREATED:20190507T165522Z
LAST-MODIFIED:20190507T165522Z
UID:3740-1558173600-1558191600@www.brickhousetavernchi.com
SUMMARY:Let's Brunch Wrigleyville
DESCRIPTION:RESERVE TABLE
URL:https://www.brickhousetavernchi.com/event/lets-brunch-wrigleyville-21/
LOCATION:Budweiser Brickhouse Tavern\, 3647 N. Clark Street\, Chicago\, 60613\, United States
CATEGORIES:Lets Brunch Wrigleyville
GEO:41.9486217;-87.6573371
X-APPLE-STRUCTURED-LOCATION;VALUE=URI;X-ADDRESS=Budweiser Brickhouse Tavern 3647 N. Clark Street Chicago 60613 United States;X-APPLE-RADIUS=500;X-TITLE=3647 N. Clark Street:geo:-87.6573371,41.9486217
END:VEVENT
BEGIN:VEVENT
DTSTART;TZID=America/Chicago:20190512T100000
DTEND;TZID=America/Chicago:20190512T150000
DTSTAMP:20260420T071401
CREATED:20190507T165104Z
LAST-MODIFIED:20190507T165250Z
UID:3737-1557655200-1557673200@www.brickhousetavernchi.com
SUMMARY:Let's Brunch Wrigleyville
DESCRIPTION:RESERVE TABLE
URL:https://www.brickhousetavernchi.com/event/lets-brunch-wrigleyville-20/
LOCATION:Budweiser Brickhouse Tavern\, 3647 N. Clark Street\, Chicago\, 60613\, United States
CATEGORIES:Lets Brunch Wrigleyville
GEO:41.9486217;-87.6573371
X-APPLE-STRUCTURED-LOCATION;VALUE=URI;X-ADDRESS=Budweiser Brickhouse Tavern 3647 N. Clark Street Chicago 60613 United States;X-APPLE-RADIUS=500;X-TITLE=3647 N. Clark Street:geo:-87.6573371,41.9486217
END:VEVENT
BEGIN:VEVENT
DTSTART;TZID=America/Chicago:20190511T100000
DTEND;TZID=America/Chicago:20190511T150000
DTSTAMP:20260420T071401
CREATED:20190507T163121Z
LAST-MODIFIED:20190507T163214Z
UID:3736-1557568800-1557586800@www.brickhousetavernchi.com
SUMMARY:Let's Brunch Wrigleyville
DESCRIPTION:RESERVE TABLE
URL:https://www.brickhousetavernchi.com/event/lets-brunch-wrigleyville-19/
LOCATION:Budweiser Brickhouse Tavern\, 3647 N. Clark Street\, Chicago\, 60613\, United States
CATEGORIES:Lets Brunch Wrigleyville
GEO:41.9486217;-87.6573371
X-APPLE-STRUCTURED-LOCATION;VALUE=URI;X-ADDRESS=Budweiser Brickhouse Tavern 3647 N. Clark Street Chicago 60613 United States;X-APPLE-RADIUS=500;X-TITLE=3647 N. Clark Street:geo:-87.6573371,41.9486217
END:VEVENT
BEGIN:VEVENT
DTSTART;TZID=America/Chicago:20190505T100000
DTEND;TZID=America/Chicago:20190505T150000
DTSTAMP:20260420T071401
CREATED:20190429T193953Z
LAST-MODIFIED:20190429T193953Z
UID:3711-1557050400-1557068400@www.brickhousetavernchi.com
SUMMARY:Let's Brunch Wrigleyville
DESCRIPTION:RESERVE YOUR TABLE
URL:https://www.brickhousetavernchi.com/event/lets-brunch-wrigleyville-18/
LOCATION:Budweiser Brickhouse Tavern\, 3647 N. Clark Street\, Chicago\, 60613\, United States
CATEGORIES:Lets Brunch Wrigleyville
GEO:41.9486217;-87.6573371
X-APPLE-STRUCTURED-LOCATION;VALUE=URI;X-ADDRESS=Budweiser Brickhouse Tavern 3647 N. Clark Street Chicago 60613 United States;X-APPLE-RADIUS=500;X-TITLE=3647 N. Clark Street:geo:-87.6573371,41.9486217
END:VEVENT
BEGIN:VEVENT
DTSTART;TZID=America/Chicago:20190504T100000
DTEND;TZID=America/Chicago:20190504T150000
DTSTAMP:20260420T071401
CREATED:20190429T193607Z
LAST-MODIFIED:20190429T193607Z
UID:3710-1556964000-1556982000@www.brickhousetavernchi.com
SUMMARY:Let's Brunch Wrigleyville
DESCRIPTION:RESERVE YOUR TABLE
URL:https://www.brickhousetavernchi.com/event/lets-brunch-wrigleyville-17/
LOCATION:Budweiser Brickhouse Tavern\, 3647 N. Clark Street\, Chicago\, 60613\, United States
CATEGORIES:Lets Brunch Wrigleyville
GEO:41.9486217;-87.6573371
X-APPLE-STRUCTURED-LOCATION;VALUE=URI;X-ADDRESS=Budweiser Brickhouse Tavern 3647 N. Clark Street Chicago 60613 United States;X-APPLE-RADIUS=500;X-TITLE=3647 N. Clark Street:geo:-87.6573371,41.9486217
END:VEVENT
BEGIN:VEVENT
DTSTART;TZID=America/Chicago:20190428T100000
DTEND;TZID=America/Chicago:20190428T150000
DTSTAMP:20260420T071401
CREATED:20190410T204718Z
LAST-MODIFIED:20190411T153225Z
UID:3666-1556445600-1556463600@www.brickhousetavernchi.com
SUMMARY:Let's Brunch Wrigleyville
DESCRIPTION:LEARN MORE
URL:https://www.brickhousetavernchi.com/event/lets-brunch-wrigleyville-16/
LOCATION:Budweiser Brickhouse Tavern\, 3647 N. Clark Street\, Chicago\, 60613\, United States
CATEGORIES:Lets Brunch Wrigleyville
GEO:41.9486217;-87.6573371
X-APPLE-STRUCTURED-LOCATION;VALUE=URI;X-ADDRESS=Budweiser Brickhouse Tavern 3647 N. Clark Street Chicago 60613 United States;X-APPLE-RADIUS=500;X-TITLE=3647 N. Clark Street:geo:-87.6573371,41.9486217
END:VEVENT
BEGIN:VEVENT
DTSTART;TZID=America/Chicago:20190427T100000
DTEND;TZID=America/Chicago:20190427T150000
DTSTAMP:20260420T071401
CREATED:20190410T204530Z
LAST-MODIFIED:20190411T153212Z
UID:3665-1556359200-1556377200@www.brickhousetavernchi.com
SUMMARY:Let's Brunch Wrigleyville
DESCRIPTION:LEARN MORE
URL:https://www.brickhousetavernchi.com/event/lets-brunch-wrigleyville-15/
LOCATION:Budweiser Brickhouse Tavern\, 3647 N. Clark Street\, Chicago\, 60613\, United States
CATEGORIES:Lets Brunch Wrigleyville
GEO:41.9486217;-87.6573371
X-APPLE-STRUCTURED-LOCATION;VALUE=URI;X-ADDRESS=Budweiser Brickhouse Tavern 3647 N. Clark Street Chicago 60613 United States;X-APPLE-RADIUS=500;X-TITLE=3647 N. Clark Street:geo:-87.6573371,41.9486217
END:VEVENT
BEGIN:VEVENT
DTSTART;TZID=America/Chicago:20190420T100000
DTEND;TZID=America/Chicago:20190420T150000
DTSTAMP:20260420T071401
CREATED:20190410T204150Z
LAST-MODIFIED:20190411T153146Z
UID:3663-1555754400-1555772400@www.brickhousetavernchi.com
SUMMARY:Let's Brunch Wrigleyville
DESCRIPTION:LEARN MORE
URL:https://www.brickhousetavernchi.com/event/lets-brunch-wrigleyville-14/
LOCATION:Budweiser Brickhouse Tavern\, 3647 N. Clark Street\, Chicago\, 60613\, United States
CATEGORIES:Lets Brunch Wrigleyville
GEO:41.9486217;-87.6573371
X-APPLE-STRUCTURED-LOCATION;VALUE=URI;X-ADDRESS=Budweiser Brickhouse Tavern 3647 N. Clark Street Chicago 60613 United States;X-APPLE-RADIUS=500;X-TITLE=3647 N. Clark Street:geo:-87.6573371,41.9486217
END:VEVENT
BEGIN:VEVENT
DTSTART;TZID=America/Chicago:20190414T100000
DTEND;TZID=America/Chicago:20190414T150000
DTSTAMP:20260420T071401
CREATED:20190410T201033Z
LAST-MODIFIED:20190411T153118Z
UID:3661-1555236000-1555254000@www.brickhousetavernchi.com
SUMMARY:Let's Brunch Wrigleyville
DESCRIPTION:LEARN MORE
URL:https://www.brickhousetavernchi.com/event/lets-brunch-wrigleyville-13/
LOCATION:Budweiser Brickhouse Tavern\, 3647 N. Clark Street\, Chicago\, 60613\, United States
CATEGORIES:Lets Brunch Wrigleyville
GEO:41.9486217;-87.6573371
X-APPLE-STRUCTURED-LOCATION;VALUE=URI;X-ADDRESS=Budweiser Brickhouse Tavern 3647 N. Clark Street Chicago 60613 United States;X-APPLE-RADIUS=500;X-TITLE=3647 N. Clark Street:geo:-87.6573371,41.9486217
END:VEVENT
END:VCALENDAR