BEGIN:VCALENDAR
VERSION:2.0
PRODID:-//Budweiser Brickhouse Tavern - ECPv6.15.20//NONSGML v1.0//EN
CALSCALE:GREGORIAN
METHOD:PUBLISH
X-WR-CALNAME:Budweiser Brickhouse Tavern
X-ORIGINAL-URL:https://www.brickhousetavernchi.com
X-WR-CALDESC:Events for Budweiser Brickhouse Tavern
REFRESH-INTERVAL;VALUE=DURATION:PT1H
X-Robots-Tag:noindex
X-PUBLISHED-TTL:PT1H
BEGIN:VTIMEZONE
TZID:America/Chicago
BEGIN:DAYLIGHT
TZOFFSETFROM:-0600
TZOFFSETTO:-0500
TZNAME:CDT
DTSTART:20170312T080000
END:DAYLIGHT
BEGIN:STANDARD
TZOFFSETFROM:-0500
TZOFFSETTO:-0600
TZNAME:CST
DTSTART:20171105T070000
END:STANDARD
BEGIN:DAYLIGHT
TZOFFSETFROM:-0600
TZOFFSETTO:-0500
TZNAME:CDT
DTSTART:20180311T080000
END:DAYLIGHT
BEGIN:STANDARD
TZOFFSETFROM:-0500
TZOFFSETTO:-0600
TZNAME:CST
DTSTART:20181104T070000
END:STANDARD
BEGIN:DAYLIGHT
TZOFFSETFROM:-0600
TZOFFSETTO:-0500
TZNAME:CDT
DTSTART:20190310T080000
END:DAYLIGHT
BEGIN:STANDARD
TZOFFSETFROM:-0500
TZOFFSETTO:-0600
TZNAME:CST
DTSTART:20191103T070000
END:STANDARD
BEGIN:DAYLIGHT
TZOFFSETFROM:-0600
TZOFFSETTO:-0500
TZNAME:CDT
DTSTART:20200308T080000
END:DAYLIGHT
BEGIN:STANDARD
TZOFFSETFROM:-0500
TZOFFSETTO:-0600
TZNAME:CST
DTSTART:20201101T070000
END:STANDARD
END:VTIMEZONE
BEGIN:VEVENT
DTSTART;TZID=America/Chicago:20190309T130000
DTEND;TZID=America/Chicago:20190309T150000
DTSTAMP:20260424T143630
CREATED:20190131T211444Z
LAST-MODIFIED:20190131T211713Z
UID:3433-1552136400-1552143600@www.brickhousetavernchi.com
SUMMARY:Kansas vs Baylor
DESCRIPTION:RESERVE TABLE
URL:https://www.brickhousetavernchi.com/event/kansas-vs-baylor/
LOCATION:Budweiser Brickhouse Tavern\, 3647 N. Clark Street\, Chicago\, 60613\, United States
CATEGORIES:Kansas Game Day Specials
GEO:41.9486217;-87.6573371
X-APPLE-STRUCTURED-LOCATION;VALUE=URI;X-ADDRESS=Budweiser Brickhouse Tavern 3647 N. Clark Street Chicago 60613 United States;X-APPLE-RADIUS=500;X-TITLE=3647 N. Clark Street:geo:-87.6573371,41.9486217
END:VEVENT
BEGIN:VEVENT
DTSTART;TZID=America/Chicago:20190302T110000
DTEND;TZID=America/Chicago:20190302T130000
DTSTAMP:20260424T143630
CREATED:20190131T210750Z
LAST-MODIFIED:20190131T212759Z
UID:3432-1551524400-1551531600@www.brickhousetavernchi.com
SUMMARY:Kansas vs Oklahoma State
DESCRIPTION:RESERVE TABLE
URL:https://www.brickhousetavernchi.com/event/kansas-vs-oklahoma-state-2/
LOCATION:Budweiser Brickhouse Tavern\, 3647 N. Clark Street\, Chicago\, 60613\, United States
CATEGORIES:Kansas Game Day Specials
GEO:41.9486217;-87.6573371
X-APPLE-STRUCTURED-LOCATION;VALUE=URI;X-ADDRESS=Budweiser Brickhouse Tavern 3647 N. Clark Street Chicago 60613 United States;X-APPLE-RADIUS=500;X-TITLE=3647 N. Clark Street:geo:-87.6573371,41.9486217
END:VEVENT
BEGIN:VEVENT
DTSTART;TZID=America/Chicago:20190225T200000
DTEND;TZID=America/Chicago:20190225T220000
DTSTAMP:20260424T143630
CREATED:20190131T210438Z
LAST-MODIFIED:20190131T210438Z
UID:3431-1551124800-1551132000@www.brickhousetavernchi.com
SUMMARY:Kansas vs Kansas State
DESCRIPTION:RESERVE TABLE
URL:https://www.brickhousetavernchi.com/event/kansas-vs-kansas-state/
LOCATION:Budweiser Brickhouse Tavern\, 3647 N. Clark Street\, Chicago\, 60613\, United States
CATEGORIES:Kansas Game Day Specials
GEO:41.9486217;-87.6573371
X-APPLE-STRUCTURED-LOCATION;VALUE=URI;X-ADDRESS=Budweiser Brickhouse Tavern 3647 N. Clark Street Chicago 60613 United States;X-APPLE-RADIUS=500;X-TITLE=3647 N. Clark Street:geo:-87.6573371,41.9486217
END:VEVENT
BEGIN:VEVENT
DTSTART;TZID=America/Chicago:20190211T200000
DTEND;TZID=America/Chicago:20190211T220000
DTSTAMP:20260424T143630
CREATED:20190131T210126Z
LAST-MODIFIED:20190131T210126Z
UID:3430-1549915200-1549922400@www.brickhousetavernchi.com
SUMMARY:Kansas vs TCU
DESCRIPTION:RESERVE TABLE
URL:https://www.brickhousetavernchi.com/event/kansas-vs-tcu/
LOCATION:Budweiser Brickhouse Tavern\, 3647 N. Clark Street\, Chicago\, 60613\, United States
CATEGORIES:Kansas Game Day Specials
GEO:41.9486217;-87.6573371
X-APPLE-STRUCTURED-LOCATION;VALUE=URI;X-ADDRESS=Budweiser Brickhouse Tavern 3647 N. Clark Street Chicago 60613 United States;X-APPLE-RADIUS=500;X-TITLE=3647 N. Clark Street:geo:-87.6573371,41.9486217
END:VEVENT
BEGIN:VEVENT
DTSTART;TZID=America/Chicago:20190209T110000
DTEND;TZID=America/Chicago:20190209T130000
DTSTAMP:20260424T143630
CREATED:20190131T205824Z
LAST-MODIFIED:20190131T205824Z
UID:3429-1549710000-1549717200@www.brickhousetavernchi.com
SUMMARY:Kansas vs Oklahoma State
DESCRIPTION:RESERVE TABLE
URL:https://www.brickhousetavernchi.com/event/kansas-vs-oklahoma-state/
LOCATION:Budweiser Brickhouse Tavern\, 3647 N. Clark Street\, Chicago\, 60613\, United States
CATEGORIES:Kansas Game Day Specials
GEO:41.9486217;-87.6573371
X-APPLE-STRUCTURED-LOCATION;VALUE=URI;X-ADDRESS=Budweiser Brickhouse Tavern 3647 N. Clark Street Chicago 60613 United States;X-APPLE-RADIUS=500;X-TITLE=3647 N. Clark Street:geo:-87.6573371,41.9486217
END:VEVENT
BEGIN:VEVENT
DTSTART;TZID=America/Chicago:20190202T150000
DTEND;TZID=America/Chicago:20190202T170000
DTSTAMP:20260424T143630
CREATED:20190131T205209Z
LAST-MODIFIED:20190131T205329Z
UID:3427-1549119600-1549126800@www.brickhousetavernchi.com
SUMMARY:Kansas vs Texas Tech
DESCRIPTION:RESERVE TABLE
URL:https://www.brickhousetavernchi.com/event/kansas-vs-texas-tech/
LOCATION:Budweiser Brickhouse Tavern\, 3647 N. Clark Street\, Chicago\, 60613\, United States
CATEGORIES:Kansas Game Day Specials
GEO:41.9486217;-87.6573371
X-APPLE-STRUCTURED-LOCATION;VALUE=URI;X-ADDRESS=Budweiser Brickhouse Tavern 3647 N. Clark Street Chicago 60613 United States;X-APPLE-RADIUS=500;X-TITLE=3647 N. Clark Street:geo:-87.6573371,41.9486217
END:VEVENT
BEGIN:VEVENT
DTSTART;TZID=America/Chicago:20181222T200000
DTEND;TZID=America/Chicago:20181222T220000
DTSTAMP:20260424T143630
CREATED:20181221T212141Z
LAST-MODIFIED:20181221T213449Z
UID:3312-1545508800-1545516000@www.brickhousetavernchi.com
SUMMARY:Kansas vs Arizona State
DESCRIPTION:RESERVE TABLE
URL:https://www.brickhousetavernchi.com/event/kansas-vs-arizona-state/
LOCATION:Budweiser Brickhouse Tavern\, 3647 N. Clark Street\, Chicago\, 60613\, United States
CATEGORIES:Kansas Game Day Specials
GEO:41.9486217;-87.6573371
X-APPLE-STRUCTURED-LOCATION;VALUE=URI;X-ADDRESS=Budweiser Brickhouse Tavern 3647 N. Clark Street Chicago 60613 United States;X-APPLE-RADIUS=500;X-TITLE=3647 N. Clark Street:geo:-87.6573371,41.9486217
END:VEVENT
END:VCALENDAR